BEGIN:VCALENDAR
VERSION:2.0
PRODID:-//destination.one//NONSGML destination.meta API//DE
X-WR-CALDESC:A calendar powered by destination.meta
X-WR-CALNAME:ulrichshof Kalender via destination.meta
BEGIN:VEVENT
CATEGORIES:Sonstiges
DESCRIPTION:Anlässlich des 76. Geburtstages des Grundgesetzes erwartet die 
 Stadt Cham ein ganz besonderes Projekt. Die Idee dahinter: Das Grundgesetz
  der Bundesrepublik Deutschland in Auszügen mit Hand auf Papier schreiben\
 , um den Wert unserer Grundrechte zu begreifen und wertzuschätzen.\n\nmehr
  Informationen unter http://pages.destination.one/de/ulrichshof/streaming/
 detail/Event/e_101260342/mitmachaktion-auf-dem-chamer-marktplatz-handwriti
 ng-the-constitution
DTEND;TZID=Europe/Berlin:20260523T130000
DTSTAMP:20260423T105516Z
DTSTART;TZID=Europe/Berlin:20260523T103000
GEO:49.217814;12.666190
LOCATION:Innenstadt Cham\, Marktplatz 2\, Cham
ORGANIZER;CN=Städtische Galerie im Cordonhaus:mailto:cordonhaus@cham.de
SEQUENCE:0
SUMMARY:Mitmachaktion auf dem Chamer Marktplatz: "Handwriting the Constitut
 ion"
UID:e_101260342_iv0
URL:http://pages.destination.one/de/ulrichshof/streaming/detail/Event/e_101
 260342/mitmachaktion-auf-dem-chamer-marktplatz-handwriting-the-constitutio
 n
END:VEVENT
BEGIN:VTIMEZONE
TZID:Europe/Berlin
X-LIC-LOCATION:Europe/Berlin
BEGIN:DAYLIGHT
DTSTART:19700329T020000
RRULE:FREQ=YEARLY;BYDAY=-1SU;BYMONTH=3
TZNAME:CEST
TZOFFSETFROM:+0100
TZOFFSETTO:+0200
END:DAYLIGHT
BEGIN:STANDARD
DTSTART:19701025T030000
RRULE:FREQ=YEARLY;BYDAY=-1SU;BYMONTH=10
TZNAME:CET
TZOFFSETFROM:+0200
TZOFFSETTO:+0100
END:STANDARD
END:VTIMEZONE
END:VCALENDAR
