BEGIN:VCALENDAR
VERSION:2.0
PRODID:-//destination.one//NONSGML destination.meta API//DE
X-WR-CALDESC:A calendar powered by destination.meta
X-WR-CALNAME:ulrichshof Kalender via destination.meta
BEGIN:VEVENT
CATEGORIES:Ausstellung
DESCRIPTION:Luftige Anspielung und kraftvolle Präsenz\n\nDie beiden Positio
 nen bildnerischer und skulpturaler Gestaltung der Künstler Johannes Felder
  und Jess Walter könnten kaum unterschiedlicher sein. In den Ausstellungsr
 äumen der Städtischen Galerie Cordonhaus verbinden sie sich zu einem spann
 ungsreichen Dialog zwischen luftiger Anspielung (Jess Walter) und kraftvol
 ler Präsenz (Johannes Felder).\n \nWährend die großformatigen Tafelbilder 
 von Johannes Felder (*1984) „zwischen Gegenständlichkeit und freier Interp
 retation changieren\, eröffnen die Werke von Jess Walter (*1959) aus versc
 hiedenen Blickwinkeln immer neue Assoziationen\,“ erklärt die Leiterin der
  Städtischen Galerie Cordonhaus\, Anjalie Chaubal. Sie bringt die beiden K
 ünstler erstmals in einer Ausstellung zusammen.\n\nmehr Informationen unte
 r http://pages.destination.one/de/ulrichshof/streaming/detail/Event/e_1012
 60332/ausstellung-johannes-felder-jess-walter
DTEND;TZID=Europe/Berlin:20260510T170000
DTSTAMP:20260423T105428Z
DTSTART;TZID=Europe/Berlin:20260510T140000
GEO:49.216448;12.666807
LOCATION:Städtische Galerie im Cordonhaus\, Propsteistraße 46\, Cham
ORGANIZER;CN=Städtische Galerie im Cordonhaus:mailto:cordonhaus@cham.de
RRULE:FREQ=WEEKLY;UNTIL=20260613T150000;BYDAY=WE,FR,SA,SU
SEQUENCE:0
SUMMARY:Ausstellung: Johannes Felder - Jess Walter
UID:e_101260332_iv0
URL:http://pages.destination.one/de/ulrichshof/streaming/detail/Event/e_101
 260332/ausstellung-johannes-felder-jess-walter
END:VEVENT
BEGIN:VEVENT
CATEGORIES:Ausstellung
DESCRIPTION:Luftige Anspielung und kraftvolle Präsenz\n\nDie beiden Positio
 nen bildnerischer und skulpturaler Gestaltung der Künstler Johannes Felder
  und Jess Walter könnten kaum unterschiedlicher sein. In den Ausstellungsr
 äumen der Städtischen Galerie Cordonhaus verbinden sie sich zu einem spann
 ungsreichen Dialog zwischen luftiger Anspielung (Jess Walter) und kraftvol
 ler Präsenz (Johannes Felder).\n \nWährend die großformatigen Tafelbilder 
 von Johannes Felder (*1984) „zwischen Gegenständlichkeit und freier Interp
 retation changieren\, eröffnen die Werke von Jess Walter (*1959) aus versc
 hiedenen Blickwinkeln immer neue Assoziationen\,“ erklärt die Leiterin der
  Städtischen Galerie Cordonhaus\, Anjalie Chaubal. Sie bringt die beiden K
 ünstler erstmals in einer Ausstellung zusammen.\n\nmehr Informationen unte
 r http://pages.destination.one/de/ulrichshof/streaming/detail/Event/e_1012
 60332/ausstellung-johannes-felder-jess-walter
DTEND;TZID=Europe/Berlin:20260514T170000
DTSTAMP:20260423T105428Z
DTSTART;TZID=Europe/Berlin:20260514T140000
GEO:49.216448;12.666807
LOCATION:Städtische Galerie im Cordonhaus\, Propsteistraße 46\, Cham
ORGANIZER;CN=Städtische Galerie im Cordonhaus:mailto:cordonhaus@cham.de
SEQUENCE:0
SUMMARY:Ausstellung: Johannes Felder - Jess Walter
UID:e_101260332_iv1
URL:http://pages.destination.one/de/ulrichshof/streaming/detail/Event/e_101
 260332/ausstellung-johannes-felder-jess-walter
END:VEVENT
BEGIN:VEVENT
CATEGORIES:Ausstellung
DESCRIPTION:Luftige Anspielung und kraftvolle Präsenz\n\nDie beiden Positio
 nen bildnerischer und skulpturaler Gestaltung der Künstler Johannes Felder
  und Jess Walter könnten kaum unterschiedlicher sein. In den Ausstellungsr
 äumen der Städtischen Galerie Cordonhaus verbinden sie sich zu einem spann
 ungsreichen Dialog zwischen luftiger Anspielung (Jess Walter) und kraftvol
 ler Präsenz (Johannes Felder).\n \nWährend die großformatigen Tafelbilder 
 von Johannes Felder (*1984) „zwischen Gegenständlichkeit und freier Interp
 retation changieren\, eröffnen die Werke von Jess Walter (*1959) aus versc
 hiedenen Blickwinkeln immer neue Assoziationen\,“ erklärt die Leiterin der
  Städtischen Galerie Cordonhaus\, Anjalie Chaubal. Sie bringt die beiden K
 ünstler erstmals in einer Ausstellung zusammen.\n\nmehr Informationen unte
 r http://pages.destination.one/de/ulrichshof/streaming/detail/Event/e_1012
 60332/ausstellung-johannes-felder-jess-walter
DTEND;TZID=Europe/Berlin:20260521T190000
DTSTAMP:20260423T105428Z
DTSTART;TZID=Europe/Berlin:20260521T140000
GEO:49.216448;12.666807
LOCATION:Städtische Galerie im Cordonhaus\, Propsteistraße 46\, Cham
ORGANIZER;CN=Städtische Galerie im Cordonhaus:mailto:cordonhaus@cham.de
RRULE:FREQ=WEEKLY;UNTIL=20260603T170000;BYDAY=TH
SEQUENCE:0
SUMMARY:Ausstellung: Johannes Felder - Jess Walter
UID:e_101260332_iv2
URL:http://pages.destination.one/de/ulrichshof/streaming/detail/Event/e_101
 260332/ausstellung-johannes-felder-jess-walter
END:VEVENT
BEGIN:VEVENT
CATEGORIES:Ausstellung
DESCRIPTION:Luftige Anspielung und kraftvolle Präsenz\n\nDie beiden Positio
 nen bildnerischer und skulpturaler Gestaltung der Künstler Johannes Felder
  und Jess Walter könnten kaum unterschiedlicher sein. In den Ausstellungsr
 äumen der Städtischen Galerie Cordonhaus verbinden sie sich zu einem spann
 ungsreichen Dialog zwischen luftiger Anspielung (Jess Walter) und kraftvol
 ler Präsenz (Johannes Felder).\n \nWährend die großformatigen Tafelbilder 
 von Johannes Felder (*1984) „zwischen Gegenständlichkeit und freier Interp
 retation changieren\, eröffnen die Werke von Jess Walter (*1959) aus versc
 hiedenen Blickwinkeln immer neue Assoziationen\,“ erklärt die Leiterin der
  Städtischen Galerie Cordonhaus\, Anjalie Chaubal. Sie bringt die beiden K
 ünstler erstmals in einer Ausstellung zusammen.\n\nmehr Informationen unte
 r http://pages.destination.one/de/ulrichshof/streaming/detail/Event/e_1012
 60332/ausstellung-johannes-felder-jess-walter
DTEND;TZID=Europe/Berlin:20260604T170000
DTSTAMP:20260423T105428Z
DTSTART;TZID=Europe/Berlin:20260604T140000
GEO:49.216448;12.666807
LOCATION:Städtische Galerie im Cordonhaus\, Propsteistraße 46\, Cham
ORGANIZER;CN=Städtische Galerie im Cordonhaus:mailto:cordonhaus@cham.de
SEQUENCE:0
SUMMARY:Ausstellung: Johannes Felder - Jess Walter
UID:e_101260332_iv3
URL:http://pages.destination.one/de/ulrichshof/streaming/detail/Event/e_101
 260332/ausstellung-johannes-felder-jess-walter
END:VEVENT
BEGIN:VEVENT
CATEGORIES:Ausstellung
DESCRIPTION:Luftige Anspielung und kraftvolle Präsenz\n\nDie beiden Positio
 nen bildnerischer und skulpturaler Gestaltung der Künstler Johannes Felder
  und Jess Walter könnten kaum unterschiedlicher sein. In den Ausstellungsr
 äumen der Städtischen Galerie Cordonhaus verbinden sie sich zu einem spann
 ungsreichen Dialog zwischen luftiger Anspielung (Jess Walter) und kraftvol
 ler Präsenz (Johannes Felder).\n \nWährend die großformatigen Tafelbilder 
 von Johannes Felder (*1984) „zwischen Gegenständlichkeit und freier Interp
 retation changieren\, eröffnen die Werke von Jess Walter (*1959) aus versc
 hiedenen Blickwinkeln immer neue Assoziationen\,“ erklärt die Leiterin der
  Städtischen Galerie Cordonhaus\, Anjalie Chaubal. Sie bringt die beiden K
 ünstler erstmals in einer Ausstellung zusammen.\n\nmehr Informationen unte
 r http://pages.destination.one/de/ulrichshof/streaming/detail/Event/e_1012
 60332/ausstellung-johannes-felder-jess-walter
DTEND;TZID=Europe/Berlin:20260611T190000
DTSTAMP:20260423T105428Z
DTSTART;TZID=Europe/Berlin:20260611T140000
GEO:49.216448;12.666807
LOCATION:Städtische Galerie im Cordonhaus\, Propsteistraße 46\, Cham
ORGANIZER;CN=Städtische Galerie im Cordonhaus:mailto:cordonhaus@cham.de
RRULE:FREQ=WEEKLY;UNTIL=20260618T170000;BYDAY=TH
SEQUENCE:0
SUMMARY:Ausstellung: Johannes Felder - Jess Walter
UID:e_101260332_iv4
URL:http://pages.destination.one/de/ulrichshof/streaming/detail/Event/e_101
 260332/ausstellung-johannes-felder-jess-walter
END:VEVENT
BEGIN:VEVENT
CATEGORIES:Ausstellung
DESCRIPTION:Luftige Anspielung und kraftvolle Präsenz\n\nDie beiden Positio
 nen bildnerischer und skulpturaler Gestaltung der Künstler Johannes Felder
  und Jess Walter könnten kaum unterschiedlicher sein. In den Ausstellungsr
 äumen der Städtischen Galerie Cordonhaus verbinden sie sich zu einem spann
 ungsreichen Dialog zwischen luftiger Anspielung (Jess Walter) und kraftvol
 ler Präsenz (Johannes Felder).\n \nWährend die großformatigen Tafelbilder 
 von Johannes Felder (*1984) „zwischen Gegenständlichkeit und freier Interp
 retation changieren\, eröffnen die Werke von Jess Walter (*1959) aus versc
 hiedenen Blickwinkeln immer neue Assoziationen\,“ erklärt die Leiterin der
  Städtischen Galerie Cordonhaus\, Anjalie Chaubal. Sie bringt die beiden K
 ünstler erstmals in einer Ausstellung zusammen.\n\nmehr Informationen unte
 r http://pages.destination.one/de/ulrichshof/streaming/detail/Event/e_1012
 60332/ausstellung-johannes-felder-jess-walter
DTEND;TZID=Europe/Berlin:20260614T170000
DTSTAMP:20260423T105428Z
DTSTART;TZID=Europe/Berlin:20260614T110000
GEO:49.216448;12.666807
LOCATION:Städtische Galerie im Cordonhaus\, Propsteistraße 46\, Cham
ORGANIZER;CN=Städtische Galerie im Cordonhaus:mailto:cordonhaus@cham.de
SEQUENCE:0
SUMMARY:Ausstellung: Johannes Felder - Jess Walter
UID:e_101260332_iv5
URL:http://pages.destination.one/de/ulrichshof/streaming/detail/Event/e_101
 260332/ausstellung-johannes-felder-jess-walter
END:VEVENT
BEGIN:VEVENT
CATEGORIES:Ausstellung
DESCRIPTION:Luftige Anspielung und kraftvolle Präsenz\n\nDie beiden Positio
 nen bildnerischer und skulpturaler Gestaltung der Künstler Johannes Felder
  und Jess Walter könnten kaum unterschiedlicher sein. In den Ausstellungsr
 äumen der Städtischen Galerie Cordonhaus verbinden sie sich zu einem spann
 ungsreichen Dialog zwischen luftiger Anspielung (Jess Walter) und kraftvol
 ler Präsenz (Johannes Felder).\n \nWährend die großformatigen Tafelbilder 
 von Johannes Felder (*1984) „zwischen Gegenständlichkeit und freier Interp
 retation changieren\, eröffnen die Werke von Jess Walter (*1959) aus versc
 hiedenen Blickwinkeln immer neue Assoziationen\,“ erklärt die Leiterin der
  Städtischen Galerie Cordonhaus\, Anjalie Chaubal. Sie bringt die beiden K
 ünstler erstmals in einer Ausstellung zusammen.\n\nmehr Informationen unte
 r http://pages.destination.one/de/ulrichshof/streaming/detail/Event/e_1012
 60332/ausstellung-johannes-felder-jess-walter
DTEND;TZID=Europe/Berlin:20260617T170000
DTSTAMP:20260423T105428Z
DTSTART;TZID=Europe/Berlin:20260617T140000
GEO:49.216448;12.666807
LOCATION:Städtische Galerie im Cordonhaus\, Propsteistraße 46\, Cham
ORGANIZER;CN=Städtische Galerie im Cordonhaus:mailto:cordonhaus@cham.de
RRULE:FREQ=WEEKLY;UNTIL=20260621T150000;BYDAY=WE,FR,SA,SU
SEQUENCE:0
SUMMARY:Ausstellung: Johannes Felder - Jess Walter
UID:e_101260332_iv6
URL:http://pages.destination.one/de/ulrichshof/streaming/detail/Event/e_101
 260332/ausstellung-johannes-felder-jess-walter
END:VEVENT
BEGIN:VTIMEZONE
TZID:Europe/Berlin
X-LIC-LOCATION:Europe/Berlin
BEGIN:DAYLIGHT
DTSTART:19700329T020000
RRULE:FREQ=YEARLY;BYDAY=-1SU;BYMONTH=3
TZNAME:CEST
TZOFFSETFROM:+0100
TZOFFSETTO:+0200
END:DAYLIGHT
BEGIN:STANDARD
DTSTART:19701025T030000
RRULE:FREQ=YEARLY;BYDAY=-1SU;BYMONTH=10
TZNAME:CET
TZOFFSETFROM:+0200
TZOFFSETTO:+0100
END:STANDARD
END:VTIMEZONE
END:VCALENDAR
