BEGIN:VCALENDAR
VERSION:2.0
PRODID:-//destination.one//NONSGML destination.meta API//DE
X-WR-CALDESC:A calendar powered by destination.meta
X-WR-CALNAME:ulrichshof Kalender via destination.meta
BEGIN:VEVENT
CATEGORIES:Ausstellung
DESCRIPTION:Luftige Anspielung und kraftvolle Präsenz\nDie beiden Positione
 n bildnerischer und skulpturaler Gestaltung der Künstler Johannes Felder u
 nd Jess Walter könnten kaum unterschiedlicher sein. In den Ausstellungsräu
 men der Städtischen Galerie Cordonhaus verbinden sie sich zu einem spannun
 gsreichen Dialog zwischen luftiger Anspielung (Jess Walter) und kraftvolle
 r Präsenz (Johannes Felder).\n \nWährend die großformatigen Tafelbilder vo
 n Johannes Felder (*1984) „zwischen Gegenständlichkeit und freier Interpre
 tation changieren\, eröffnen die Werke von Jess Walter (*1959) aus verschi
 edenen Blickwinkeln immer neue Assoziationen\,“ erklärt die Leiterin der S
 tädtischen Galerie Cordonhaus\, Anjalie Chaubal. Sie bringt die beiden Kün
 stler erstmals in einer Ausstellung zusammen.\n\nmehr Informationen unter 
 http://pages.destination.one/de/ulrichshof/streaming/detail/Event/e_101260
 326/ausstellungser-ffnung-johannes-felder-jess-walter
DTEND;TZID=Europe/Berlin:20260509T210000
DTSTAMP:20260423T123240Z
DTSTART;TZID=Europe/Berlin:20260509T190000
GEO:49.216448;12.666807
LOCATION:Städtische Galerie im Cordonhaus\, Propsteistraße 46\, Cham
ORGANIZER;CN=Städtische Galerie im Cordonhaus:mailto:cordonhaus@cham.de
SEQUENCE:0
SUMMARY:Ausstellungseröffnung: Johannes Felder - Jess Walter
UID:e_101260326_iv0
URL:http://pages.destination.one/de/ulrichshof/streaming/detail/Event/e_101
 260326/ausstellungser-ffnung-johannes-felder-jess-walter
END:VEVENT
BEGIN:VTIMEZONE
TZID:Europe/Berlin
X-LIC-LOCATION:Europe/Berlin
BEGIN:DAYLIGHT
DTSTART:19700329T020000
RRULE:FREQ=YEARLY;BYDAY=-1SU;BYMONTH=3
TZNAME:CEST
TZOFFSETFROM:+0100
TZOFFSETTO:+0200
END:DAYLIGHT
BEGIN:STANDARD
DTSTART:19701025T030000
RRULE:FREQ=YEARLY;BYDAY=-1SU;BYMONTH=10
TZNAME:CET
TZOFFSETFROM:+0200
TZOFFSETTO:+0100
END:STANDARD
END:VTIMEZONE
END:VCALENDAR
