BEGIN:VCALENDAR
VERSION:2.0
PRODID:-//destination.one//NONSGML destination.meta API//DE
X-WR-CALDESC:A calendar powered by destination.meta
X-WR-CALNAME:ulrichshof Kalender via destination.meta
BEGIN:VEVENT
CATEGORIES:Ausstellung
CATEGORIES:Kurs/Seminar/Hobby
DESCRIPTION:\n\nmehr Informationen unter http://pages.destination.one/de/ul
 richshof/streaming/detail/Event/e_101259347/collagen-workshop-mit-christin
 e-hohenstein
DTEND;TZID=Europe/Berlin:20260501T170000
DTSTAMP:20260422T105127Z
DTSTART;TZID=Europe/Berlin:20260501T140000
GEO:49.195650;13.052316
LOCATION:Rathaus Lam\, Schulweg 4\, Lam
ORGANIZER;CN=Christine Hohenstein:mailto:mail@christine-hohenstein.com
SEQUENCE:0
SUMMARY:Collagen-Workshop mit Christine Hohenstein
UID:e_101259347_iv0
URL:http://pages.destination.one/de/ulrichshof/streaming/detail/Event/e_101
 259347/collagen-workshop-mit-christine-hohenstein
END:VEVENT
BEGIN:VEVENT
CATEGORIES:Ausstellung
CATEGORIES:Kurs/Seminar/Hobby
DESCRIPTION:\n\nmehr Informationen unter http://pages.destination.one/de/ul
 richshof/streaming/detail/Event/e_101259347/collagen-workshop-mit-christin
 e-hohenstein
DTEND;TZID=Europe/Berlin:20260502T170000
DTSTAMP:20260422T105127Z
DTSTART;TZID=Europe/Berlin:20260502T140000
GEO:49.195650;13.052316
LOCATION:Rathaus Lam\, Schulweg 4\, Lam
ORGANIZER;CN=Christine Hohenstein:mailto:mail@christine-hohenstein.com
SEQUENCE:0
SUMMARY:Collagen-Workshop mit Christine Hohenstein
UID:e_101259347_iv1
URL:http://pages.destination.one/de/ulrichshof/streaming/detail/Event/e_101
 259347/collagen-workshop-mit-christine-hohenstein
END:VEVENT
BEGIN:VTIMEZONE
TZID:Europe/Berlin
X-LIC-LOCATION:Europe/Berlin
BEGIN:DAYLIGHT
DTSTART:19700329T020000
RRULE:FREQ=YEARLY;BYDAY=-1SU;BYMONTH=3
TZNAME:CEST
TZOFFSETFROM:+0100
TZOFFSETTO:+0200
END:DAYLIGHT
BEGIN:STANDARD
DTSTART:19701025T030000
RRULE:FREQ=YEARLY;BYDAY=-1SU;BYMONTH=10
TZNAME:CET
TZOFFSETFROM:+0200
TZOFFSETTO:+0100
END:STANDARD
END:VTIMEZONE
END:VCALENDAR
