BEGIN:VCALENDAR
VERSION:2.0
PRODID:-//destination.one//NONSGML destination.meta API//DE
X-WR-CALDESC:A calendar powered by destination.meta
X-WR-CALNAME:ulrichshof Kalender via destination.meta
BEGIN:VEVENT
CATEGORIES:Ausstellung
CATEGORIES:Markt
DESCRIPTION:\n\nmehr Informationen unter http://pages.destination.one/de/ul
 richshof/streaming/detail/Event/e_101259170/flohmarkt-roding
DTEND;TZID=Europe/Berlin:20260503T170000
DTSTAMP:20260422T092233Z
DTSTART;TZID=Europe/Berlin:20260503T080000
GEO:49.198700;12.517097
LOCATION:Festplatz Am Esper\, Jahnstraße\, Roding
ORGANIZER;CN=Festplatz Am Esper:mailto:events@roding.de
SEQUENCE:0
SUMMARY:Flohmarkt - Roding
UID:e_101259170_iv0
URL:http://pages.destination.one/de/ulrichshof/streaming/detail/Event/e_101
 259170/flohmarkt-roding
END:VEVENT
BEGIN:VEVENT
CATEGORIES:Ausstellung
CATEGORIES:Markt
DESCRIPTION:\n\nmehr Informationen unter http://pages.destination.one/de/ul
 richshof/streaming/detail/Event/e_101259170/flohmarkt-roding
DTEND;TZID=Europe/Berlin:20260920T170000
DTSTAMP:20260422T092233Z
DTSTART;TZID=Europe/Berlin:20260920T080000
GEO:49.198700;12.517097
LOCATION:Festplatz Am Esper\, Jahnstraße\, Roding
ORGANIZER;CN=Festplatz Am Esper:mailto:events@roding.de
SEQUENCE:0
SUMMARY:Flohmarkt - Roding
UID:e_101259170_iv1
URL:http://pages.destination.one/de/ulrichshof/streaming/detail/Event/e_101
 259170/flohmarkt-roding
END:VEVENT
BEGIN:VEVENT
CATEGORIES:Ausstellung
CATEGORIES:Markt
DESCRIPTION:\n\nmehr Informationen unter http://pages.destination.one/de/ul
 richshof/streaming/detail/Event/e_101259170/flohmarkt-roding
DTEND;TZID=Europe/Berlin:20261018T170000
DTSTAMP:20260422T092233Z
DTSTART;TZID=Europe/Berlin:20261018T080000
GEO:49.198700;12.517097
LOCATION:Festplatz Am Esper\, Jahnstraße\, Roding
ORGANIZER;CN=Festplatz Am Esper:mailto:events@roding.de
SEQUENCE:0
SUMMARY:Flohmarkt - Roding
UID:e_101259170_iv2
URL:http://pages.destination.one/de/ulrichshof/streaming/detail/Event/e_101
 259170/flohmarkt-roding
END:VEVENT
BEGIN:VTIMEZONE
TZID:Europe/Berlin
X-LIC-LOCATION:Europe/Berlin
BEGIN:DAYLIGHT
DTSTART:19700329T020000
RRULE:FREQ=YEARLY;BYDAY=-1SU;BYMONTH=3
TZNAME:CEST
TZOFFSETFROM:+0100
TZOFFSETTO:+0200
END:DAYLIGHT
BEGIN:STANDARD
DTSTART:19701025T030000
RRULE:FREQ=YEARLY;BYDAY=-1SU;BYMONTH=10
TZNAME:CET
TZOFFSETFROM:+0200
TZOFFSETTO:+0100
END:STANDARD
END:VTIMEZONE
END:VCALENDAR
