BEGIN:VCALENDAR
VERSION:2.0
PRODID:-//destination.one//NONSGML destination.meta API//DE
X-WR-CALDESC:A calendar powered by destination.meta
X-WR-CALNAME:ulrichshof Kalender via destination.meta
BEGIN:VEVENT
CATEGORIES:Geselligkeit/Spiele/Treffen
CATEGORIES:Kinderprogramm
CATEGORIES:Sport/Freizeit
CATEGORIES:Wanderung
DESCRIPTION:Ein Parcour zum selber entdecken und erleben\nDauer ca. 2-3 Stu
 nden\n\nmehr Informationen unter http://pages.destination.one/de/ulrichsho
 f/streaming/detail/Event/e_101259164/tierolympiade-ein-r-tselspa-f-r-die-g
 anze-familie
DTEND;TZID=Europe/Berlin:20260825T163000
DTSTAMP:20260422T142347Z
DTSTART;TZID=Europe/Berlin:20260825T090000
GEO:49.321122;12.824435
LOCATION:Walderlebnispfad Voithenberg\, Von-Voithenberg-Straße (Parkplatz)\
 , Furth im Wald
ORGANIZER;CN=Tourist-Info Furth im Wald:mailto:tourist@furth.de
PRIORITY:4
SEQUENCE:0
SUMMARY:Tierolympiade - Ein Rätselspaß für die ganze Familie
UID:e_101259164_iv0
URL:http://pages.destination.one/de/ulrichshof/streaming/detail/Event/e_101
 259164/tierolympiade-ein-r-tselspa-f-r-die-ganze-familie
END:VEVENT
BEGIN:VTIMEZONE
TZID:Europe/Berlin
X-LIC-LOCATION:Europe/Berlin
BEGIN:DAYLIGHT
DTSTART:19700329T020000
RRULE:FREQ=YEARLY;BYDAY=-1SU;BYMONTH=3
TZNAME:CEST
TZOFFSETFROM:+0100
TZOFFSETTO:+0200
END:DAYLIGHT
BEGIN:STANDARD
DTSTART:19701025T030000
RRULE:FREQ=YEARLY;BYDAY=-1SU;BYMONTH=10
TZNAME:CET
TZOFFSETFROM:+0200
TZOFFSETTO:+0100
END:STANDARD
END:VTIMEZONE
END:VCALENDAR
