BEGIN:VCALENDAR
VERSION:2.0
PRODID:-//destination.one//NONSGML destination.meta API//DE
X-WR-CALDESC:A calendar powered by destination.meta
X-WR-CALNAME:ulrichshof Kalender via destination.meta
BEGIN:VEVENT
CATEGORIES:Ausstellung
CATEGORIES:Führung/Besichtigung
DESCRIPTION:Zur Finissage der Ausstellung "SPIELEND" gestaltet Christian He
 ß eine Performance. Zudem führt Petra Amerell durch die Ausstellung.\n\nme
 hr Informationen unter http://pages.destination.one/de/ulrichshof/streamin
 g/detail/Event/e_101224384/finissage-der-ausstellung-spielend-petra-amerel
 l-christian-he
DTEND;TZID=Europe/Berlin:20260503T170000
DTSTAMP:20260420T100622Z
DTSTART;TZID=Europe/Berlin:20260503T150000
GEO:49.216448;12.666807
LOCATION:Städtische Galerie im Cordonhaus\, Propsteistraße 46\, Cham
ORGANIZER;CN=Städtische Galerie im Cordonhaus:mailto:cordonhaus@cham.de
SEQUENCE:0
SUMMARY:Finissage der Ausstellung "SPIELEND" Petra Amerell - Christian Heß
UID:e_101224384_iv0
URL:http://pages.destination.one/de/ulrichshof/streaming/detail/Event/e_101
 224384/finissage-der-ausstellung-spielend-petra-amerell-christian-he
END:VEVENT
BEGIN:VTIMEZONE
TZID:Europe/Berlin
X-LIC-LOCATION:Europe/Berlin
BEGIN:DAYLIGHT
DTSTART:19700329T020000
RRULE:FREQ=YEARLY;BYDAY=-1SU;BYMONTH=3
TZNAME:CEST
TZOFFSETFROM:+0100
TZOFFSETTO:+0200
END:DAYLIGHT
BEGIN:STANDARD
DTSTART:19701025T030000
RRULE:FREQ=YEARLY;BYDAY=-1SU;BYMONTH=10
TZNAME:CET
TZOFFSETFROM:+0200
TZOFFSETTO:+0100
END:STANDARD
END:VTIMEZONE
END:VCALENDAR
