BEGIN:VCALENDAR
VERSION:2.0
PRODID:-//destination.one//NONSGML destination.meta API//DE
X-WR-CALDESC:A calendar powered by destination.meta
X-WR-CALNAME:ulrichshof Kalender via destination.meta
BEGIN:VEVENT
CATEGORIES:Brauchtum/Kultur
CATEGORIES:Bühnenkunst
CATEGORIES:Konzert
CATEGORIES:Sonstiges
DESCRIPTION:\n\nmehr Informationen unter http://pages.destination.one/de/ul
 richshof/streaming/detail/Event/e_101186694/blasmusikkonzert-besinnliche-s
 tunde-zwischen-den-jahren-mit-dem-falkensteiner-musikanten-in-der-pfarrkic
 he-st-sebastian
DTEND;TZID=Europe/Berlin:20261227T235900
DTSTAMP:20260420T155856Z
DTSTART;TZID=Europe/Berlin:20261227T170000
GEO:49.098206;12.484385
LOCATION:Kath. Pfarrkirche St. Sebastian\, Burgstraße 7\, Falkenstein
SEQUENCE:0
SUMMARY:Blasmusikkonzert: Besinnliche Stunde zwischen den Jahren mit dem Fa
 lkensteiner Musikanten in der Pfarrkiche St. Sebastian
UID:e_101186694_iv0
URL:http://pages.destination.one/de/ulrichshof/streaming/detail/Event/e_101
 186694/blasmusikkonzert-besinnliche-stunde-zwischen-den-jahren-mit-dem-fal
 kensteiner-musikanten-in-der-pfarrkiche-st-sebastian
END:VEVENT
BEGIN:VTIMEZONE
TZID:Europe/Berlin
X-LIC-LOCATION:Europe/Berlin
BEGIN:DAYLIGHT
DTSTART:19700329T020000
RRULE:FREQ=YEARLY;BYDAY=-1SU;BYMONTH=3
TZNAME:CEST
TZOFFSETFROM:+0100
TZOFFSETTO:+0200
END:DAYLIGHT
BEGIN:STANDARD
DTSTART:19701025T030000
RRULE:FREQ=YEARLY;BYDAY=-1SU;BYMONTH=10
TZNAME:CET
TZOFFSETFROM:+0200
TZOFFSETTO:+0100
END:STANDARD
END:VTIMEZONE
END:VCALENDAR
