BEGIN:VCALENDAR
VERSION:2.0
PRODID:-//destination.one//NONSGML destination.meta API//DE
X-WR-CALDESC:A calendar powered by destination.meta
X-WR-CALNAME:ulrichshof Kalender via destination.meta
BEGIN:VEVENT
CATEGORIES:Sonstiges
DESCRIPTION:\n\nmehr Informationen unter http://pages.destination.one/de/ul
 richshof/streaming/detail/Event/e_101147487/blasmusikkonzert-traditionell-
 modern-jubil-umsabend-mit-dezent-b-hmisch-im-rettenbacher-hof
DTEND;TZID=Europe/Berlin:20261024T235900
DTSTAMP:20260420T121008Z
DTSTART;TZID=Europe/Berlin:20261024T190000
GEO:49.068974;12.456554
LOCATION:Rettenbacher Hof\, Dorfstraße 18\, Rettenbach
SEQUENCE:0
SUMMARY:Blasmusikkonzert traditionell & modern: Jubiläumsabend mit "Dezent-
 Böhmisch" im Rettenbacher Hof
UID:e_101147487_iv0
URL:http://pages.destination.one/de/ulrichshof/streaming/detail/Event/e_101
 147487/blasmusikkonzert-traditionell-modern-jubil-umsabend-mit-dezent-b-hm
 isch-im-rettenbacher-hof
END:VEVENT
BEGIN:VTIMEZONE
TZID:Europe/Berlin
X-LIC-LOCATION:Europe/Berlin
BEGIN:DAYLIGHT
DTSTART:19700329T020000
RRULE:FREQ=YEARLY;BYDAY=-1SU;BYMONTH=3
TZNAME:CEST
TZOFFSETFROM:+0100
TZOFFSETTO:+0200
END:DAYLIGHT
BEGIN:STANDARD
DTSTART:19701025T030000
RRULE:FREQ=YEARLY;BYDAY=-1SU;BYMONTH=10
TZNAME:CET
TZOFFSETFROM:+0200
TZOFFSETTO:+0100
END:STANDARD
END:VTIMEZONE
END:VCALENDAR
