BEGIN:VCALENDAR
VERSION:2.0
PRODID:-//destination.one//NONSGML destination.meta API//DE
X-WR-CALDESC:A calendar powered by destination.meta
X-WR-CALNAME:ulrichshof Kalender via destination.meta
BEGIN:VEVENT
CATEGORIES:Sport/Freizeit
CATEGORIES:Ausflugsfahrten
CATEGORIES:Führung/Besichtigung
DESCRIPTION:Radeln im Furth im Wald – Hohenbogenwinkel: Geführte Touren 202
 6\n\nmehr Informationen unter http://pages.destination.one/de/ulrichshof/s
 treaming/detail/Event/e_101050507/mtb-genussradtour-entlang-der-bystrice-p
 astritz
DTEND;TZID=Europe/Berlin:20240518T235900
DTSTAMP:20260420T221531Z
DTSTART;TZID=Europe/Berlin:20240518T133000
GEO:49.309778;12.840056
LOCATION:Bahnhof Furth im Wald\, Bahnhofstraße 20\, Furth im Wald
ORGANIZER;CN=Tourist-Info Furth im Wald:mailto:tourist@furth.de
SEQUENCE:0
SUMMARY:MTB-Genussradtour "Entlang der Bystrice (Pastritz)"
UID:e_101050507_iv0
URL:http://pages.destination.one/de/ulrichshof/streaming/detail/Event/e_101
 050507/mtb-genussradtour-entlang-der-bystrice-pastritz
END:VEVENT
BEGIN:VEVENT
CATEGORIES:Sport/Freizeit
CATEGORIES:Ausflugsfahrten
CATEGORIES:Führung/Besichtigung
DESCRIPTION:Radeln im Furth im Wald – Hohenbogenwinkel: Geführte Touren 202
 6\n\nmehr Informationen unter http://pages.destination.one/de/ulrichshof/s
 treaming/detail/Event/e_101050507/mtb-genussradtour-entlang-der-bystrice-p
 astritz
DTEND;TZID=Europe/Berlin:20250721T223000
DTSTAMP:20260420T221531Z
DTSTART;TZID=Europe/Berlin:20250721T173000
GEO:49.309778;12.840056
LOCATION:Bahnhof Furth im Wald\, Bahnhofstraße 20\, Furth im Wald
ORGANIZER;CN=Tourist-Info Furth im Wald:mailto:tourist@furth.de
SEQUENCE:0
SUMMARY:MTB-Genussradtour "Entlang der Bystrice (Pastritz)"
UID:e_101050507_iv1
URL:http://pages.destination.one/de/ulrichshof/streaming/detail/Event/e_101
 050507/mtb-genussradtour-entlang-der-bystrice-pastritz
END:VEVENT
BEGIN:VEVENT
CATEGORIES:Sport/Freizeit
CATEGORIES:Ausflugsfahrten
CATEGORIES:Führung/Besichtigung
DESCRIPTION:Radeln im Furth im Wald – Hohenbogenwinkel: Geführte Touren 202
 6\n\nmehr Informationen unter http://pages.destination.one/de/ulrichshof/s
 treaming/detail/Event/e_101050507/mtb-genussradtour-entlang-der-bystrice-p
 astritz
DTEND;TZID=Europe/Berlin:20260804T235900
DTSTAMP:20260420T221531Z
DTSTART;TZID=Europe/Berlin:20260804T180000
GEO:49.309778;12.840056
LOCATION:Bahnhof Furth im Wald\, Bahnhofstraße 20\, Furth im Wald
ORGANIZER;CN=Tourist-Info Furth im Wald:mailto:tourist@furth.de
SEQUENCE:0
SUMMARY:MTB-Genussradtour "Entlang der Bystrice (Pastritz)"
UID:e_101050507_iv2
URL:http://pages.destination.one/de/ulrichshof/streaming/detail/Event/e_101
 050507/mtb-genussradtour-entlang-der-bystrice-pastritz
END:VEVENT
BEGIN:VTIMEZONE
TZID:Europe/Berlin
X-LIC-LOCATION:Europe/Berlin
BEGIN:DAYLIGHT
DTSTART:19700329T020000
RRULE:FREQ=YEARLY;BYDAY=-1SU;BYMONTH=3
TZNAME:CEST
TZOFFSETFROM:+0100
TZOFFSETTO:+0200
END:DAYLIGHT
BEGIN:STANDARD
DTSTART:19701025T030000
RRULE:FREQ=YEARLY;BYDAY=-1SU;BYMONTH=10
TZNAME:CET
TZOFFSETFROM:+0200
TZOFFSETTO:+0100
END:STANDARD
END:VTIMEZONE
END:VCALENDAR
