BEGIN:VCALENDAR
VERSION:2.0
PRODID:-//destination.one//NONSGML destination.meta API//DE
X-WR-CALDESC:A calendar powered by destination.meta
X-WR-CALNAME:ulrichshof Kalender via destination.meta
BEGIN:VEVENT
CATEGORIES:Ausflugsfahrten
CATEGORIES:Sonstiges
DESCRIPTION:\n\nmehr Informationen unter http://pages.destination.one/de/ul
 richshof/streaming/detail/Event/e_101046209/buswallfahrt-nach-alt-tting
DTEND;TZID=Europe/Berlin:20250703T235900
DTSTAMP:20260424T100115Z
DTSTART;TZID=Europe/Berlin:20250703T072500
GEO:49.124030;12.552416
LOCATION:Dorfplatz Michelsneukirchen\, \, Michelsneukirchen
SEQUENCE:0
SUMMARY:Buswallfahrt nach Altötting
UID:e_101046209_iv0
URL:http://pages.destination.one/de/ulrichshof/streaming/detail/Event/e_101
 046209/buswallfahrt-nach-alt-tting
END:VEVENT
BEGIN:VEVENT
CATEGORIES:Ausflugsfahrten
CATEGORIES:Sonstiges
DESCRIPTION:\n\nmehr Informationen unter http://pages.destination.one/de/ul
 richshof/streaming/detail/Event/e_101046209/buswallfahrt-nach-alt-tting
DTEND;TZID=Europe/Berlin:20260625T235900
DTSTAMP:20260424T100115Z
DTSTART;TZID=Europe/Berlin:20260625T071500
GEO:49.124030;12.552416
LOCATION:Dorfplatz Michelsneukirchen\, \, Michelsneukirchen
SEQUENCE:0
SUMMARY:Buswallfahrt nach Altötting
UID:e_101046209_iv1
URL:http://pages.destination.one/de/ulrichshof/streaming/detail/Event/e_101
 046209/buswallfahrt-nach-alt-tting
END:VEVENT
BEGIN:VTIMEZONE
TZID:Europe/Berlin
X-LIC-LOCATION:Europe/Berlin
BEGIN:DAYLIGHT
DTSTART:19700329T020000
RRULE:FREQ=YEARLY;BYDAY=-1SU;BYMONTH=3
TZNAME:CEST
TZOFFSETFROM:+0100
TZOFFSETTO:+0200
END:DAYLIGHT
BEGIN:STANDARD
DTSTART:19701025T030000
RRULE:FREQ=YEARLY;BYDAY=-1SU;BYMONTH=10
TZNAME:CET
TZOFFSETFROM:+0200
TZOFFSETTO:+0100
END:STANDARD
END:VTIMEZONE
END:VCALENDAR
