BEGIN:VCALENDAR
VERSION:2.0
PRODID:-//destination.one//NONSGML destination.meta API//DE
X-WR-CALDESC:A calendar powered by destination.meta
X-WR-CALNAME:ulrichshof Kalender via destination.meta
BEGIN:VEVENT
CATEGORIES:Wanderung
DESCRIPTION:Wir wallfahren nach Hammern (CZ)\n\nmehr Informationen unter ht
 tp://pages.destination.one/de/ulrichshof/streaming/detail/Event/e_10039658
 1/wallfahrt-nach-hammern-cz
DTEND;TZID=Europe/Berlin:20240901T235900
DTSTAMP:20260420T174726Z
DTSTART;TZID=Europe/Berlin:20240901T073000
GEO:49.197017;13.049440
LOCATION:Kath. Pfarramt Lam St. Ulrich\, Marktplatz 12\, Lam
ORGANIZER;CN=Kath. Pfarramt Lam St. Ulrich:mailto:pfarramt-lam@t-online.de
SEQUENCE:0
SUMMARY:Wallfahrt nach Hammern (CZ)
UID:e_100396581_iv0
URL:http://pages.destination.one/de/ulrichshof/streaming/detail/Event/e_100
 396581/wallfahrt-nach-hammern-cz
END:VEVENT
BEGIN:VEVENT
CATEGORIES:Wanderung
DESCRIPTION:Wir wallfahren nach Hammern (CZ)\n\nmehr Informationen unter ht
 tp://pages.destination.one/de/ulrichshof/streaming/detail/Event/e_10039658
 1/wallfahrt-nach-hammern-cz
DTEND;TZID=Europe/Berlin:20260906T235900
DTSTAMP:20260420T174726Z
DTSTART;TZID=Europe/Berlin:20260906T073000
GEO:49.197017;13.049440
LOCATION:Kath. Pfarramt Lam St. Ulrich\, Marktplatz 12\, Lam
ORGANIZER;CN=Kath. Pfarramt Lam St. Ulrich:mailto:pfarramt-lam@t-online.de
SEQUENCE:0
SUMMARY:Wallfahrt nach Hammern (CZ)
UID:e_100396581_iv1
URL:http://pages.destination.one/de/ulrichshof/streaming/detail/Event/e_100
 396581/wallfahrt-nach-hammern-cz
END:VEVENT
BEGIN:VTIMEZONE
TZID:Europe/Berlin
X-LIC-LOCATION:Europe/Berlin
BEGIN:DAYLIGHT
DTSTART:19700329T020000
RRULE:FREQ=YEARLY;BYDAY=-1SU;BYMONTH=3
TZNAME:CEST
TZOFFSETFROM:+0100
TZOFFSETTO:+0200
END:DAYLIGHT
BEGIN:STANDARD
DTSTART:19701025T030000
RRULE:FREQ=YEARLY;BYDAY=-1SU;BYMONTH=10
TZNAME:CET
TZOFFSETFROM:+0200
TZOFFSETTO:+0100
END:STANDARD
END:VTIMEZONE
END:VCALENDAR
