BEGIN:VCALENDAR
VERSION:2.0
PRODID:-//destination.one//NONSGML destination.meta API//DE
X-WR-CALDESC:A calendar powered by destination.meta
X-WR-CALNAME:ulrichshof Kalender via destination.meta
BEGIN:VEVENT
CATEGORIES:Führung/Besichtigung
DESCRIPTION:\n\nmehr Informationen unter http://pages.destination.one/de/ul
 richshof/streaming/detail/Event/e_100166803/kinderf-hrung-auf-burg-falkens
 tein
DTEND;TZID=Europe/Berlin:20180720T163000
DTSTAMP:20260422T092210Z
DTSTART;TZID=Europe/Berlin:20180720T150000
GEO:49.099049;12.484932
LOCATION:Burg Falkenstein\, Burgstr. 10 - 12\, Falkenstein
SEQUENCE:0
STATUS:Cancelled
SUMMARY:Kinderführung auf Burg Falkenstein
UID:e_100166803_iv0
URL:http://pages.destination.one/de/ulrichshof/streaming/detail/Event/e_100
 166803/kinderf-hrung-auf-burg-falkenstein
END:VEVENT
BEGIN:VEVENT
CATEGORIES:Führung/Besichtigung
DESCRIPTION:\n\nmehr Informationen unter http://pages.destination.one/de/ul
 richshof/streaming/detail/Event/e_100166803/kinderf-hrung-auf-burg-falkens
 tein
DTEND;TZID=Europe/Berlin:20180817T163000
DTSTAMP:20260422T092210Z
DTSTART;TZID=Europe/Berlin:20180817T150000
GEO:49.099049;12.484932
LOCATION:Burg Falkenstein\, Burgstr. 10 - 12\, Falkenstein
SEQUENCE:0
STATUS:Cancelled
SUMMARY:Kinderführung auf Burg Falkenstein
UID:e_100166803_iv1
URL:http://pages.destination.one/de/ulrichshof/streaming/detail/Event/e_100
 166803/kinderf-hrung-auf-burg-falkenstein
END:VEVENT
BEGIN:VEVENT
CATEGORIES:Führung/Besichtigung
DESCRIPTION:\n\nmehr Informationen unter http://pages.destination.one/de/ul
 richshof/streaming/detail/Event/e_100166803/kinderf-hrung-auf-burg-falkens
 tein
DTEND;TZID=Europe/Berlin:20230414T163000
DTSTAMP:20260422T092210Z
DTSTART;TZID=Europe/Berlin:20230414T150000
GEO:49.099049;12.484932
LOCATION:Burg Falkenstein\, Burgstr. 10 - 12\, Falkenstein
SEQUENCE:0
STATUS:Cancelled
SUMMARY:Kinderführung auf Burg Falkenstein
UID:e_100166803_iv2
URL:http://pages.destination.one/de/ulrichshof/streaming/detail/Event/e_100
 166803/kinderf-hrung-auf-burg-falkenstein
END:VEVENT
BEGIN:VEVENT
CATEGORIES:Führung/Besichtigung
DESCRIPTION:\n\nmehr Informationen unter http://pages.destination.one/de/ul
 richshof/streaming/detail/Event/e_100166803/kinderf-hrung-auf-burg-falkens
 tein
DTEND;TZID=Europe/Berlin:20230512T163000
DTSTAMP:20260422T092210Z
DTSTART;TZID=Europe/Berlin:20230512T150000
GEO:49.099049;12.484932
LOCATION:Burg Falkenstein\, Burgstr. 10 - 12\, Falkenstein
SEQUENCE:0
STATUS:Cancelled
SUMMARY:Kinderführung auf Burg Falkenstein
UID:e_100166803_iv3
URL:http://pages.destination.one/de/ulrichshof/streaming/detail/Event/e_100
 166803/kinderf-hrung-auf-burg-falkenstein
END:VEVENT
BEGIN:VEVENT
CATEGORIES:Führung/Besichtigung
DESCRIPTION:\n\nmehr Informationen unter http://pages.destination.one/de/ul
 richshof/streaming/detail/Event/e_100166803/kinderf-hrung-auf-burg-falkens
 tein
DTEND;TZID=Europe/Berlin:20230602T163000
DTSTAMP:20260422T092210Z
DTSTART;TZID=Europe/Berlin:20230602T150000
GEO:49.099049;12.484932
LOCATION:Burg Falkenstein\, Burgstr. 10 - 12\, Falkenstein
SEQUENCE:0
STATUS:Cancelled
SUMMARY:Kinderführung auf Burg Falkenstein
UID:e_100166803_iv4
URL:http://pages.destination.one/de/ulrichshof/streaming/detail/Event/e_100
 166803/kinderf-hrung-auf-burg-falkenstein
END:VEVENT
BEGIN:VEVENT
CATEGORIES:Führung/Besichtigung
DESCRIPTION:\n\nmehr Informationen unter http://pages.destination.one/de/ul
 richshof/streaming/detail/Event/e_100166803/kinderf-hrung-auf-burg-falkens
 tein
DTEND;TZID=Europe/Berlin:20230721T163000
DTSTAMP:20260422T092210Z
DTSTART;TZID=Europe/Berlin:20230721T150000
GEO:49.099049;12.484932
LOCATION:Burg Falkenstein\, Burgstr. 10 - 12\, Falkenstein
SEQUENCE:0
STATUS:Cancelled
SUMMARY:Kinderführung auf Burg Falkenstein
UID:e_100166803_iv5
URL:http://pages.destination.one/de/ulrichshof/streaming/detail/Event/e_100
 166803/kinderf-hrung-auf-burg-falkenstein
END:VEVENT
BEGIN:VEVENT
CATEGORIES:Führung/Besichtigung
DESCRIPTION:\n\nmehr Informationen unter http://pages.destination.one/de/ul
 richshof/streaming/detail/Event/e_100166803/kinderf-hrung-auf-burg-falkens
 tein
DTEND;TZID=Europe/Berlin:20230811T163000
DTSTAMP:20260422T092210Z
DTSTART;TZID=Europe/Berlin:20230811T150000
GEO:49.099049;12.484932
LOCATION:Burg Falkenstein\, Burgstr. 10 - 12\, Falkenstein
SEQUENCE:0
STATUS:Cancelled
SUMMARY:Kinderführung auf Burg Falkenstein
UID:e_100166803_iv6
URL:http://pages.destination.one/de/ulrichshof/streaming/detail/Event/e_100
 166803/kinderf-hrung-auf-burg-falkenstein
END:VEVENT
BEGIN:VEVENT
CATEGORIES:Führung/Besichtigung
DESCRIPTION:\n\nmehr Informationen unter http://pages.destination.one/de/ul
 richshof/streaming/detail/Event/e_100166803/kinderf-hrung-auf-burg-falkens
 tein
DTEND;TZID=Europe/Berlin:20230908T163000
DTSTAMP:20260422T092210Z
DTSTART;TZID=Europe/Berlin:20230908T150000
GEO:49.099049;12.484932
LOCATION:Burg Falkenstein\, Burgstr. 10 - 12\, Falkenstein
SEQUENCE:0
STATUS:Cancelled
SUMMARY:Kinderführung auf Burg Falkenstein
UID:e_100166803_iv7
URL:http://pages.destination.one/de/ulrichshof/streaming/detail/Event/e_100
 166803/kinderf-hrung-auf-burg-falkenstein
END:VEVENT
BEGIN:VEVENT
CATEGORIES:Führung/Besichtigung
DESCRIPTION:\n\nmehr Informationen unter http://pages.destination.one/de/ul
 richshof/streaming/detail/Event/e_100166803/kinderf-hrung-auf-burg-falkens
 tein
DTEND;TZID=Europe/Berlin:20240405T235900
DTSTAMP:20260422T092210Z
DTSTART;TZID=Europe/Berlin:20240405T150000
GEO:49.099049;12.484932
LOCATION:Burg Falkenstein\, Burgstr. 10 - 12\, Falkenstein
SEQUENCE:0
STATUS:Cancelled
SUMMARY:Kinderführung auf Burg Falkenstein
UID:e_100166803_iv8
URL:http://pages.destination.one/de/ulrichshof/streaming/detail/Event/e_100
 166803/kinderf-hrung-auf-burg-falkenstein
END:VEVENT
BEGIN:VEVENT
CATEGORIES:Führung/Besichtigung
DESCRIPTION:\n\nmehr Informationen unter http://pages.destination.one/de/ul
 richshof/streaming/detail/Event/e_100166803/kinderf-hrung-auf-burg-falkens
 tein
DTEND;TZID=Europe/Berlin:20240524T235900
DTSTAMP:20260422T092210Z
DTSTART;TZID=Europe/Berlin:20240524T150000
GEO:49.099049;12.484932
LOCATION:Burg Falkenstein\, Burgstr. 10 - 12\, Falkenstein
SEQUENCE:0
STATUS:Cancelled
SUMMARY:Kinderführung auf Burg Falkenstein
UID:e_100166803_iv9
URL:http://pages.destination.one/de/ulrichshof/streaming/detail/Event/e_100
 166803/kinderf-hrung-auf-burg-falkenstein
END:VEVENT
BEGIN:VEVENT
CATEGORIES:Führung/Besichtigung
DESCRIPTION:\n\nmehr Informationen unter http://pages.destination.one/de/ul
 richshof/streaming/detail/Event/e_100166803/kinderf-hrung-auf-burg-falkens
 tein
DTEND;TZID=Europe/Berlin:20240621T235900
DTSTAMP:20260422T092210Z
DTSTART;TZID=Europe/Berlin:20240621T150000
GEO:49.099049;12.484932
LOCATION:Burg Falkenstein\, Burgstr. 10 - 12\, Falkenstein
SEQUENCE:0
STATUS:Cancelled
SUMMARY:Kinderführung auf Burg Falkenstein
UID:e_100166803_iv10
URL:http://pages.destination.one/de/ulrichshof/streaming/detail/Event/e_100
 166803/kinderf-hrung-auf-burg-falkenstein
END:VEVENT
BEGIN:VEVENT
CATEGORIES:Führung/Besichtigung
DESCRIPTION:\n\nmehr Informationen unter http://pages.destination.one/de/ul
 richshof/streaming/detail/Event/e_100166803/kinderf-hrung-auf-burg-falkens
 tein
DTEND;TZID=Europe/Berlin:20240726T235900
DTSTAMP:20260422T092210Z
DTSTART;TZID=Europe/Berlin:20240726T150000
GEO:49.099049;12.484932
LOCATION:Burg Falkenstein\, Burgstr. 10 - 12\, Falkenstein
SEQUENCE:0
STATUS:Cancelled
SUMMARY:Kinderführung auf Burg Falkenstein
UID:e_100166803_iv11
URL:http://pages.destination.one/de/ulrichshof/streaming/detail/Event/e_100
 166803/kinderf-hrung-auf-burg-falkenstein
END:VEVENT
BEGIN:VEVENT
CATEGORIES:Führung/Besichtigung
DESCRIPTION:\n\nmehr Informationen unter http://pages.destination.one/de/ul
 richshof/streaming/detail/Event/e_100166803/kinderf-hrung-auf-burg-falkens
 tein
DTEND;TZID=Europe/Berlin:20240809T235900
DTSTAMP:20260422T092210Z
DTSTART;TZID=Europe/Berlin:20240809T150000
GEO:49.099049;12.484932
LOCATION:Burg Falkenstein\, Burgstr. 10 - 12\, Falkenstein
SEQUENCE:0
STATUS:Cancelled
SUMMARY:Kinderführung auf Burg Falkenstein
UID:e_100166803_iv12
URL:http://pages.destination.one/de/ulrichshof/streaming/detail/Event/e_100
 166803/kinderf-hrung-auf-burg-falkenstein
END:VEVENT
BEGIN:VEVENT
CATEGORIES:Führung/Besichtigung
DESCRIPTION:\n\nmehr Informationen unter http://pages.destination.one/de/ul
 richshof/streaming/detail/Event/e_100166803/kinderf-hrung-auf-burg-falkens
 tein
DTEND;TZID=Europe/Berlin:20240830T235900
DTSTAMP:20260422T092210Z
DTSTART;TZID=Europe/Berlin:20240830T150000
GEO:49.099049;12.484932
LOCATION:Burg Falkenstein\, Burgstr. 10 - 12\, Falkenstein
SEQUENCE:0
STATUS:Cancelled
SUMMARY:Kinderführung auf Burg Falkenstein
UID:e_100166803_iv13
URL:http://pages.destination.one/de/ulrichshof/streaming/detail/Event/e_100
 166803/kinderf-hrung-auf-burg-falkenstein
END:VEVENT
BEGIN:VEVENT
CATEGORIES:Führung/Besichtigung
DESCRIPTION:\n\nmehr Informationen unter http://pages.destination.one/de/ul
 richshof/streaming/detail/Event/e_100166803/kinderf-hrung-auf-burg-falkens
 tein
DTEND;TZID=Europe/Berlin:20260527T235900
DTSTAMP:20260422T092210Z
DTSTART;TZID=Europe/Berlin:20260527T150000
GEO:49.099049;12.484932
LOCATION:Burg Falkenstein\, Burgstr. 10 - 12\, Falkenstein
SEQUENCE:0
STATUS:Cancelled
SUMMARY:Kinderführung auf Burg Falkenstein
UID:e_100166803_iv14
URL:http://pages.destination.one/de/ulrichshof/streaming/detail/Event/e_100
 166803/kinderf-hrung-auf-burg-falkenstein
END:VEVENT
BEGIN:VEVENT
CATEGORIES:Führung/Besichtigung
DESCRIPTION:\n\nmehr Informationen unter http://pages.destination.one/de/ul
 richshof/streaming/detail/Event/e_100166803/kinderf-hrung-auf-burg-falkens
 tein
DTEND;TZID=Europe/Berlin:20260708T235900
DTSTAMP:20260422T092210Z
DTSTART;TZID=Europe/Berlin:20260708T150000
GEO:49.099049;12.484932
LOCATION:Burg Falkenstein\, Burgstr. 10 - 12\, Falkenstein
SEQUENCE:0
STATUS:Cancelled
SUMMARY:Kinderführung auf Burg Falkenstein
UID:e_100166803_iv15
URL:http://pages.destination.one/de/ulrichshof/streaming/detail/Event/e_100
 166803/kinderf-hrung-auf-burg-falkenstein
END:VEVENT
BEGIN:VEVENT
CATEGORIES:Führung/Besichtigung
DESCRIPTION:\n\nmehr Informationen unter http://pages.destination.one/de/ul
 richshof/streaming/detail/Event/e_100166803/kinderf-hrung-auf-burg-falkens
 tein
DTEND;TZID=Europe/Berlin:20260805T235900
DTSTAMP:20260422T092210Z
DTSTART;TZID=Europe/Berlin:20260805T150000
GEO:49.099049;12.484932
LOCATION:Burg Falkenstein\, Burgstr. 10 - 12\, Falkenstein
SEQUENCE:0
STATUS:Cancelled
SUMMARY:Kinderführung auf Burg Falkenstein
UID:e_100166803_iv16
URL:http://pages.destination.one/de/ulrichshof/streaming/detail/Event/e_100
 166803/kinderf-hrung-auf-burg-falkenstein
END:VEVENT
BEGIN:VTIMEZONE
TZID:Europe/Berlin
X-LIC-LOCATION:Europe/Berlin
BEGIN:DAYLIGHT
DTSTART:19700329T020000
RRULE:FREQ=YEARLY;BYDAY=-1SU;BYMONTH=3
TZNAME:CEST
TZOFFSETFROM:+0100
TZOFFSETTO:+0200
END:DAYLIGHT
BEGIN:STANDARD
DTSTART:19701025T030000
RRULE:FREQ=YEARLY;BYDAY=-1SU;BYMONTH=10
TZNAME:CET
TZOFFSETFROM:+0200
TZOFFSETTO:+0100
END:STANDARD
END:VTIMEZONE
END:VCALENDAR
