BEGIN:VCALENDAR
VERSION:2.0
PRODID:-//destination.one//NONSGML destination.meta API//DE
X-WR-CALDESC:A calendar powered by destination.meta
X-WR-CALNAME:ulrichshof Kalender via destination.meta
BEGIN:VEVENT
CATEGORIES:Brauchtum/Kultur
CATEGORIES:Bühnenkunst
DESCRIPTION:Gastspiel mit Toni Lauerer über das Altern.\n\nmehr Information
 en unter http://pages.destination.one/de/ulrichshof/streaming/detail/Event
 /e_100004262/toni-lauerer-lter-werden-die-ander-n
DTEND;TZID=Europe/Berlin:20261010T235900
DTSTAMP:20260422T105123Z
DTSTART;TZID=Europe/Berlin:20261010T200000
GEO:49.174669;12.856325
LOCATION:Postsaal\, Herrenstraße 10\, Bad Kötzting
ORGANIZER;CN=Agentur Showtime:mailto:info@agentur-showtime.de
SEQUENCE:0
SUMMARY:Toni Lauerer: Älter werden die Ander´n 
UID:e_100004262_iv0
URL:http://pages.destination.one/de/ulrichshof/streaming/detail/Event/e_100
 004262/toni-lauerer-lter-werden-die-ander-n
END:VEVENT
BEGIN:VTIMEZONE
TZID:Europe/Berlin
X-LIC-LOCATION:Europe/Berlin
BEGIN:DAYLIGHT
DTSTART:19700329T020000
RRULE:FREQ=YEARLY;BYDAY=-1SU;BYMONTH=3
TZNAME:CEST
TZOFFSETFROM:+0100
TZOFFSETTO:+0200
END:DAYLIGHT
BEGIN:STANDARD
DTSTART:19701025T030000
RRULE:FREQ=YEARLY;BYDAY=-1SU;BYMONTH=10
TZNAME:CET
TZOFFSETFROM:+0200
TZOFFSETTO:+0100
END:STANDARD
END:VTIMEZONE
END:VCALENDAR
