BEGIN:VCALENDAR
VERSION:2.0
PRODID:-//destination.one//NONSGML destination.meta API//DE
X-WR-CALDESC:A calendar powered by destination.meta
X-WR-CALNAME:ulrichshof Kalender via destination.meta
BEGIN:VEVENT
CATEGORIES:Feste/Bälle/Tanz
DESCRIPTION:Der Treffpunkt für Alle!\n\nmehr Informationen unter http://pag
 es.destination.one/de/ulrichshof/streaming/detail/Event/e_100002986/chamer
 -volksfest
DTEND;TZID=Europe/Berlin:20190726T234500
DTSTAMP:20260423T075827Z
DTSTART;TZID=Europe/Berlin:20190726T170000
GEO:49.223049;12.670524
LOCATION:Volksfestplatz Cham\, Further Straße\, Cham
ORGANIZER;CN=Volksfestverein Cham:mailto:info@chamervolksfest.de
PRIORITY:4
SEQUENCE:0
SUMMARY:Chamer Volksfest
UID:e_100002986_iv0
URL:http://pages.destination.one/de/ulrichshof/streaming/detail/Event/e_100
 002986/chamer-volksfest
END:VEVENT
BEGIN:VEVENT
CATEGORIES:Feste/Bälle/Tanz
DESCRIPTION:Der Treffpunkt für Alle!\n\nmehr Informationen unter http://pag
 es.destination.one/de/ulrichshof/streaming/detail/Event/e_100002986/chamer
 -volksfest
DTEND;TZID=Europe/Berlin:20190727T234500
DTSTAMP:20260423T075827Z
DTSTART;TZID=Europe/Berlin:20190727T140000
GEO:49.223049;12.670524
LOCATION:Volksfestplatz Cham\, Further Straße\, Cham
ORGANIZER;CN=Volksfestverein Cham:mailto:info@chamervolksfest.de
PRIORITY:4
SEQUENCE:0
SUMMARY:Chamer Volksfest
UID:e_100002986_iv1
URL:http://pages.destination.one/de/ulrichshof/streaming/detail/Event/e_100
 002986/chamer-volksfest
END:VEVENT
BEGIN:VEVENT
CATEGORIES:Feste/Bälle/Tanz
DESCRIPTION:Der Treffpunkt für Alle!\n\nmehr Informationen unter http://pag
 es.destination.one/de/ulrichshof/streaming/detail/Event/e_100002986/chamer
 -volksfest
DTEND;TZID=Europe/Berlin:20190728T234500
DTSTAMP:20260423T075827Z
DTSTART;TZID=Europe/Berlin:20190728T103000
GEO:49.223049;12.670524
LOCATION:Volksfestplatz Cham\, Further Straße\, Cham
ORGANIZER;CN=Volksfestverein Cham:mailto:info@chamervolksfest.de
PRIORITY:4
SEQUENCE:0
SUMMARY:Chamer Volksfest
UID:e_100002986_iv2
URL:http://pages.destination.one/de/ulrichshof/streaming/detail/Event/e_100
 002986/chamer-volksfest
END:VEVENT
BEGIN:VEVENT
CATEGORIES:Feste/Bälle/Tanz
DESCRIPTION:Der Treffpunkt für Alle!\n\nmehr Informationen unter http://pag
 es.destination.one/de/ulrichshof/streaming/detail/Event/e_100002986/chamer
 -volksfest
DTEND;TZID=Europe/Berlin:20190729T234500
DTSTAMP:20260423T075827Z
DTSTART;TZID=Europe/Berlin:20190729T140000
GEO:49.223049;12.670524
LOCATION:Volksfestplatz Cham\, Further Straße\, Cham
ORGANIZER;CN=Volksfestverein Cham:mailto:info@chamervolksfest.de
PRIORITY:4
SEQUENCE:0
SUMMARY:Chamer Volksfest
UID:e_100002986_iv3
URL:http://pages.destination.one/de/ulrichshof/streaming/detail/Event/e_100
 002986/chamer-volksfest
END:VEVENT
BEGIN:VEVENT
CATEGORIES:Feste/Bälle/Tanz
DESCRIPTION:Der Treffpunkt für Alle!\n\nmehr Informationen unter http://pag
 es.destination.one/de/ulrichshof/streaming/detail/Event/e_100002986/chamer
 -volksfest
DTEND;TZID=Europe/Berlin:20190730T234500
DTSTAMP:20260423T075827Z
DTSTART;TZID=Europe/Berlin:20190730T140000
GEO:49.223049;12.670524
LOCATION:Volksfestplatz Cham\, Further Straße\, Cham
ORGANIZER;CN=Volksfestverein Cham:mailto:info@chamervolksfest.de
PRIORITY:4
SEQUENCE:0
SUMMARY:Chamer Volksfest
UID:e_100002986_iv4
URL:http://pages.destination.one/de/ulrichshof/streaming/detail/Event/e_100
 002986/chamer-volksfest
END:VEVENT
BEGIN:VEVENT
CATEGORIES:Feste/Bälle/Tanz
DESCRIPTION:Der Treffpunkt für Alle!\n\nmehr Informationen unter http://pag
 es.destination.one/de/ulrichshof/streaming/detail/Event/e_100002986/chamer
 -volksfest
DTEND;TZID=Europe/Berlin:20190731T234500
DTSTAMP:20260423T075827Z
DTSTART;TZID=Europe/Berlin:20190731T140000
GEO:49.223049;12.670524
LOCATION:Volksfestplatz Cham\, Further Straße\, Cham
ORGANIZER;CN=Volksfestverein Cham:mailto:info@chamervolksfest.de
PRIORITY:4
SEQUENCE:0
SUMMARY:Chamer Volksfest
UID:e_100002986_iv5
URL:http://pages.destination.one/de/ulrichshof/streaming/detail/Event/e_100
 002986/chamer-volksfest
END:VEVENT
BEGIN:VEVENT
CATEGORIES:Feste/Bälle/Tanz
DESCRIPTION:Der Treffpunkt für Alle!\n\nmehr Informationen unter http://pag
 es.destination.one/de/ulrichshof/streaming/detail/Event/e_100002986/chamer
 -volksfest
DTEND;TZID=Europe/Berlin:20190801T234500
DTSTAMP:20260423T075827Z
DTSTART;TZID=Europe/Berlin:20190801T140000
GEO:49.223049;12.670524
LOCATION:Volksfestplatz Cham\, Further Straße\, Cham
ORGANIZER;CN=Volksfestverein Cham:mailto:info@chamervolksfest.de
PRIORITY:4
SEQUENCE:0
SUMMARY:Chamer Volksfest
UID:e_100002986_iv6
URL:http://pages.destination.one/de/ulrichshof/streaming/detail/Event/e_100
 002986/chamer-volksfest
END:VEVENT
BEGIN:VEVENT
CATEGORIES:Feste/Bälle/Tanz
DESCRIPTION:Der Treffpunkt für Alle!\n\nmehr Informationen unter http://pag
 es.destination.one/de/ulrichshof/streaming/detail/Event/e_100002986/chamer
 -volksfest
DTEND;TZID=Europe/Berlin:20190802T234500
DTSTAMP:20260423T075827Z
DTSTART;TZID=Europe/Berlin:20190802T140000
GEO:49.223049;12.670524
LOCATION:Volksfestplatz Cham\, Further Straße\, Cham
ORGANIZER;CN=Volksfestverein Cham:mailto:info@chamervolksfest.de
PRIORITY:4
SEQUENCE:0
SUMMARY:Chamer Volksfest
UID:e_100002986_iv7
URL:http://pages.destination.one/de/ulrichshof/streaming/detail/Event/e_100
 002986/chamer-volksfest
END:VEVENT
BEGIN:VEVENT
CATEGORIES:Feste/Bälle/Tanz
DESCRIPTION:Der Treffpunkt für Alle!\n\nmehr Informationen unter http://pag
 es.destination.one/de/ulrichshof/streaming/detail/Event/e_100002986/chamer
 -volksfest
DTEND;TZID=Europe/Berlin:20190803T234500
DTSTAMP:20260423T075827Z
DTSTART;TZID=Europe/Berlin:20190803T140000
GEO:49.223049;12.670524
LOCATION:Volksfestplatz Cham\, Further Straße\, Cham
ORGANIZER;CN=Volksfestverein Cham:mailto:info@chamervolksfest.de
PRIORITY:4
SEQUENCE:0
SUMMARY:Chamer Volksfest
UID:e_100002986_iv8
URL:http://pages.destination.one/de/ulrichshof/streaming/detail/Event/e_100
 002986/chamer-volksfest
END:VEVENT
BEGIN:VEVENT
CATEGORIES:Feste/Bälle/Tanz
DESCRIPTION:Der Treffpunkt für Alle!\n\nmehr Informationen unter http://pag
 es.destination.one/de/ulrichshof/streaming/detail/Event/e_100002986/chamer
 -volksfest
DTEND;TZID=Europe/Berlin:20190804T234500
DTSTAMP:20260423T075827Z
DTSTART;TZID=Europe/Berlin:20190804T120000
GEO:49.223049;12.670524
LOCATION:Volksfestplatz Cham\, Further Straße\, Cham
ORGANIZER;CN=Volksfestverein Cham:mailto:info@chamervolksfest.de
PRIORITY:4
SEQUENCE:0
SUMMARY:Chamer Volksfest
UID:e_100002986_iv9
URL:http://pages.destination.one/de/ulrichshof/streaming/detail/Event/e_100
 002986/chamer-volksfest
END:VEVENT
BEGIN:VEVENT
CATEGORIES:Feste/Bälle/Tanz
DESCRIPTION:Der Treffpunkt für Alle!\n\nmehr Informationen unter http://pag
 es.destination.one/de/ulrichshof/streaming/detail/Event/e_100002986/chamer
 -volksfest
DTEND;TZID=Europe/Berlin:20190805T234500
DTSTAMP:20260423T075827Z
DTSTART;TZID=Europe/Berlin:20190805T160000
GEO:49.223049;12.670524
LOCATION:Volksfestplatz Cham\, Further Straße\, Cham
ORGANIZER;CN=Volksfestverein Cham:mailto:info@chamervolksfest.de
PRIORITY:4
SEQUENCE:0
SUMMARY:Chamer Volksfest
UID:e_100002986_iv10
URL:http://pages.destination.one/de/ulrichshof/streaming/detail/Event/e_100
 002986/chamer-volksfest
END:VEVENT
BEGIN:VEVENT
CATEGORIES:Feste/Bälle/Tanz
DESCRIPTION:Der Treffpunkt für Alle!\n\nmehr Informationen unter http://pag
 es.destination.one/de/ulrichshof/streaming/detail/Event/e_100002986/chamer
 -volksfest
DTEND;TZID=Europe/Berlin:20220729T233000
DTSTAMP:20260423T075827Z
DTSTART;TZID=Europe/Berlin:20220729T170000
GEO:49.223049;12.670524
LOCATION:Volksfestplatz Cham\, Further Straße\, Cham
ORGANIZER;CN=Volksfestverein Cham:mailto:info@chamervolksfest.de
PRIORITY:4
SEQUENCE:0
SUMMARY:Chamer Volksfest
UID:e_100002986_iv11
URL:http://pages.destination.one/de/ulrichshof/streaming/detail/Event/e_100
 002986/chamer-volksfest
END:VEVENT
BEGIN:VEVENT
CATEGORIES:Feste/Bälle/Tanz
DESCRIPTION:Der Treffpunkt für Alle!\n\nmehr Informationen unter http://pag
 es.destination.one/de/ulrichshof/streaming/detail/Event/e_100002986/chamer
 -volksfest
DTEND;TZID=Europe/Berlin:20220730T233000
DTSTAMP:20260423T075827Z
DTSTART;TZID=Europe/Berlin:20220730T140000
GEO:49.223049;12.670524
LOCATION:Volksfestplatz Cham\, Further Straße\, Cham
ORGANIZER;CN=Volksfestverein Cham:mailto:info@chamervolksfest.de
PRIORITY:4
SEQUENCE:0
SUMMARY:Chamer Volksfest
UID:e_100002986_iv12
URL:http://pages.destination.one/de/ulrichshof/streaming/detail/Event/e_100
 002986/chamer-volksfest
END:VEVENT
BEGIN:VEVENT
CATEGORIES:Feste/Bälle/Tanz
DESCRIPTION:Der Treffpunkt für Alle!\n\nmehr Informationen unter http://pag
 es.destination.one/de/ulrichshof/streaming/detail/Event/e_100002986/chamer
 -volksfest
DTEND;TZID=Europe/Berlin:20220731T233000
DTSTAMP:20260423T075827Z
DTSTART;TZID=Europe/Berlin:20220731T103000
GEO:49.223049;12.670524
LOCATION:Volksfestplatz Cham\, Further Straße\, Cham
ORGANIZER;CN=Volksfestverein Cham:mailto:info@chamervolksfest.de
PRIORITY:4
SEQUENCE:0
SUMMARY:Chamer Volksfest
UID:e_100002986_iv13
URL:http://pages.destination.one/de/ulrichshof/streaming/detail/Event/e_100
 002986/chamer-volksfest
END:VEVENT
BEGIN:VEVENT
CATEGORIES:Feste/Bälle/Tanz
DESCRIPTION:Der Treffpunkt für Alle!\n\nmehr Informationen unter http://pag
 es.destination.one/de/ulrichshof/streaming/detail/Event/e_100002986/chamer
 -volksfest
DTEND;TZID=Europe/Berlin:20220802T000000
DTSTAMP:20260423T075827Z
DTSTART;TZID=Europe/Berlin:20220801T140000
GEO:49.223049;12.670524
LOCATION:Volksfestplatz Cham\, Further Straße\, Cham
ORGANIZER;CN=Volksfestverein Cham:mailto:info@chamervolksfest.de
PRIORITY:4
SEQUENCE:0
SUMMARY:Chamer Volksfest
UID:e_100002986_iv14
URL:http://pages.destination.one/de/ulrichshof/streaming/detail/Event/e_100
 002986/chamer-volksfest
END:VEVENT
BEGIN:VEVENT
CATEGORIES:Feste/Bälle/Tanz
DESCRIPTION:Der Treffpunkt für Alle!\n\nmehr Informationen unter http://pag
 es.destination.one/de/ulrichshof/streaming/detail/Event/e_100002986/chamer
 -volksfest
DTEND;TZID=Europe/Berlin:20220802T233000
DTSTAMP:20260423T075827Z
DTSTART;TZID=Europe/Berlin:20220802T140000
GEO:49.223049;12.670524
LOCATION:Volksfestplatz Cham\, Further Straße\, Cham
ORGANIZER;CN=Volksfestverein Cham:mailto:info@chamervolksfest.de
PRIORITY:4
SEQUENCE:0
SUMMARY:Chamer Volksfest
UID:e_100002986_iv15
URL:http://pages.destination.one/de/ulrichshof/streaming/detail/Event/e_100
 002986/chamer-volksfest
END:VEVENT
BEGIN:VEVENT
CATEGORIES:Feste/Bälle/Tanz
DESCRIPTION:Der Treffpunkt für Alle!\n\nmehr Informationen unter http://pag
 es.destination.one/de/ulrichshof/streaming/detail/Event/e_100002986/chamer
 -volksfest
DTEND;TZID=Europe/Berlin:20220804T000000
DTSTAMP:20260423T075827Z
DTSTART;TZID=Europe/Berlin:20220803T140000
GEO:49.223049;12.670524
LOCATION:Volksfestplatz Cham\, Further Straße\, Cham
ORGANIZER;CN=Volksfestverein Cham:mailto:info@chamervolksfest.de
PRIORITY:4
SEQUENCE:0
SUMMARY:Chamer Volksfest
UID:e_100002986_iv16
URL:http://pages.destination.one/de/ulrichshof/streaming/detail/Event/e_100
 002986/chamer-volksfest
END:VEVENT
BEGIN:VEVENT
CATEGORIES:Feste/Bälle/Tanz
DESCRIPTION:Der Treffpunkt für Alle!\n\nmehr Informationen unter http://pag
 es.destination.one/de/ulrichshof/streaming/detail/Event/e_100002986/chamer
 -volksfest
DTEND;TZID=Europe/Berlin:20220805T000000
DTSTAMP:20260423T075827Z
DTSTART;TZID=Europe/Berlin:20220804T140000
GEO:49.223049;12.670524
LOCATION:Volksfestplatz Cham\, Further Straße\, Cham
ORGANIZER;CN=Volksfestverein Cham:mailto:info@chamervolksfest.de
PRIORITY:4
SEQUENCE:0
SUMMARY:Chamer Volksfest
UID:e_100002986_iv17
URL:http://pages.destination.one/de/ulrichshof/streaming/detail/Event/e_100
 002986/chamer-volksfest
END:VEVENT
BEGIN:VEVENT
CATEGORIES:Feste/Bälle/Tanz
DESCRIPTION:Der Treffpunkt für Alle!\n\nmehr Informationen unter http://pag
 es.destination.one/de/ulrichshof/streaming/detail/Event/e_100002986/chamer
 -volksfest
DTEND;TZID=Europe/Berlin:20220806T000000
DTSTAMP:20260423T075827Z
DTSTART;TZID=Europe/Berlin:20220805T140000
GEO:49.223049;12.670524
LOCATION:Volksfestplatz Cham\, Further Straße\, Cham
ORGANIZER;CN=Volksfestverein Cham:mailto:info@chamervolksfest.de
PRIORITY:4
SEQUENCE:0
SUMMARY:Chamer Volksfest
UID:e_100002986_iv18
URL:http://pages.destination.one/de/ulrichshof/streaming/detail/Event/e_100
 002986/chamer-volksfest
END:VEVENT
BEGIN:VEVENT
CATEGORIES:Feste/Bälle/Tanz
DESCRIPTION:Der Treffpunkt für Alle!\n\nmehr Informationen unter http://pag
 es.destination.one/de/ulrichshof/streaming/detail/Event/e_100002986/chamer
 -volksfest
DTEND;TZID=Europe/Berlin:20220807T000000
DTSTAMP:20260423T075827Z
DTSTART;TZID=Europe/Berlin:20220806T140000
GEO:49.223049;12.670524
LOCATION:Volksfestplatz Cham\, Further Straße\, Cham
ORGANIZER;CN=Volksfestverein Cham:mailto:info@chamervolksfest.de
PRIORITY:4
SEQUENCE:0
SUMMARY:Chamer Volksfest
UID:e_100002986_iv19
URL:http://pages.destination.one/de/ulrichshof/streaming/detail/Event/e_100
 002986/chamer-volksfest
END:VEVENT
BEGIN:VEVENT
CATEGORIES:Feste/Bälle/Tanz
DESCRIPTION:Der Treffpunkt für Alle!\n\nmehr Informationen unter http://pag
 es.destination.one/de/ulrichshof/streaming/detail/Event/e_100002986/chamer
 -volksfest
DTEND;TZID=Europe/Berlin:20220808T000000
DTSTAMP:20260423T075827Z
DTSTART;TZID=Europe/Berlin:20220807T103000
GEO:49.223049;12.670524
LOCATION:Volksfestplatz Cham\, Further Straße\, Cham
ORGANIZER;CN=Volksfestverein Cham:mailto:info@chamervolksfest.de
PRIORITY:4
SEQUENCE:0
SUMMARY:Chamer Volksfest
UID:e_100002986_iv20
URL:http://pages.destination.one/de/ulrichshof/streaming/detail/Event/e_100
 002986/chamer-volksfest
END:VEVENT
BEGIN:VEVENT
CATEGORIES:Feste/Bälle/Tanz
DESCRIPTION:Der Treffpunkt für Alle!\n\nmehr Informationen unter http://pag
 es.destination.one/de/ulrichshof/streaming/detail/Event/e_100002986/chamer
 -volksfest
DTEND;TZID=Europe/Berlin:20220809T000000
DTSTAMP:20260423T075827Z
DTSTART;TZID=Europe/Berlin:20220808T160000
GEO:49.223049;12.670524
LOCATION:Volksfestplatz Cham\, Further Straße\, Cham
ORGANIZER;CN=Volksfestverein Cham:mailto:info@chamervolksfest.de
PRIORITY:4
SEQUENCE:0
SUMMARY:Chamer Volksfest
UID:e_100002986_iv21
URL:http://pages.destination.one/de/ulrichshof/streaming/detail/Event/e_100
 002986/chamer-volksfest
END:VEVENT
BEGIN:VEVENT
CATEGORIES:Feste/Bälle/Tanz
DESCRIPTION:Der Treffpunkt für Alle!\n\nmehr Informationen unter http://pag
 es.destination.one/de/ulrichshof/streaming/detail/Event/e_100002986/chamer
 -volksfest
DTEND;TZID=Europe/Berlin;VALUE=DATE:20230730
DTSTAMP:20260423T075827Z
DTSTART;TZID=Europe/Berlin;VALUE=DATE:20230729
GEO:49.223049;12.670524
LOCATION:Volksfestplatz Cham\, Further Straße\, Cham
ORGANIZER;CN=Volksfestverein Cham:mailto:info@chamervolksfest.de
PRIORITY:4
RRULE:FREQ=WEEKLY;UNTIL=20230805T220000;BYDAY=MO,TU,WE,TH,FR,SA,SU
SEQUENCE:0
SUMMARY:Chamer Volksfest
UID:e_100002986_iv22
URL:http://pages.destination.one/de/ulrichshof/streaming/detail/Event/e_100
 002986/chamer-volksfest
END:VEVENT
BEGIN:VEVENT
CATEGORIES:Feste/Bälle/Tanz
DESCRIPTION:Der Treffpunkt für Alle!\n\nmehr Informationen unter http://pag
 es.destination.one/de/ulrichshof/streaming/detail/Event/e_100002986/chamer
 -volksfest
DTEND;TZID=Europe/Berlin:20240726T233000
DTSTAMP:20260423T075827Z
DTSTART;TZID=Europe/Berlin:20240726T170000
GEO:49.223049;12.670524
LOCATION:Volksfestplatz Cham\, Further Straße\, Cham
ORGANIZER;CN=Volksfestverein Cham:mailto:info@chamervolksfest.de
PRIORITY:4
SEQUENCE:0
SUMMARY:Chamer Volksfest
UID:e_100002986_iv23
URL:http://pages.destination.one/de/ulrichshof/streaming/detail/Event/e_100
 002986/chamer-volksfest
END:VEVENT
BEGIN:VEVENT
CATEGORIES:Feste/Bälle/Tanz
DESCRIPTION:Der Treffpunkt für Alle!\n\nmehr Informationen unter http://pag
 es.destination.one/de/ulrichshof/streaming/detail/Event/e_100002986/chamer
 -volksfest
DTEND;TZID=Europe/Berlin:20240727T233000
DTSTAMP:20260423T075827Z
DTSTART;TZID=Europe/Berlin:20240727T140000
GEO:49.223049;12.670524
LOCATION:Volksfestplatz Cham\, Further Straße\, Cham
ORGANIZER;CN=Volksfestverein Cham:mailto:info@chamervolksfest.de
PRIORITY:4
SEQUENCE:0
SUMMARY:Chamer Volksfest
UID:e_100002986_iv24
URL:http://pages.destination.one/de/ulrichshof/streaming/detail/Event/e_100
 002986/chamer-volksfest
END:VEVENT
BEGIN:VEVENT
CATEGORIES:Feste/Bälle/Tanz
DESCRIPTION:Der Treffpunkt für Alle!\n\nmehr Informationen unter http://pag
 es.destination.one/de/ulrichshof/streaming/detail/Event/e_100002986/chamer
 -volksfest
DTEND;TZID=Europe/Berlin:20240728T233000
DTSTAMP:20260423T075827Z
DTSTART;TZID=Europe/Berlin:20240728T100000
GEO:49.223049;12.670524
LOCATION:Volksfestplatz Cham\, Further Straße\, Cham
ORGANIZER;CN=Volksfestverein Cham:mailto:info@chamervolksfest.de
PRIORITY:4
SEQUENCE:0
SUMMARY:Chamer Volksfest
UID:e_100002986_iv25
URL:http://pages.destination.one/de/ulrichshof/streaming/detail/Event/e_100
 002986/chamer-volksfest
END:VEVENT
BEGIN:VEVENT
CATEGORIES:Feste/Bälle/Tanz
DESCRIPTION:Der Treffpunkt für Alle!\n\nmehr Informationen unter http://pag
 es.destination.one/de/ulrichshof/streaming/detail/Event/e_100002986/chamer
 -volksfest
DTEND;TZID=Europe/Berlin:20240729T233000
DTSTAMP:20260423T075827Z
DTSTART;TZID=Europe/Berlin:20240729T110000
GEO:49.223049;12.670524
LOCATION:Volksfestplatz Cham\, Further Straße\, Cham
ORGANIZER;CN=Volksfestverein Cham:mailto:info@chamervolksfest.de
PRIORITY:4
SEQUENCE:0
SUMMARY:Chamer Volksfest
UID:e_100002986_iv26
URL:http://pages.destination.one/de/ulrichshof/streaming/detail/Event/e_100
 002986/chamer-volksfest
END:VEVENT
BEGIN:VEVENT
CATEGORIES:Feste/Bälle/Tanz
DESCRIPTION:Der Treffpunkt für Alle!\n\nmehr Informationen unter http://pag
 es.destination.one/de/ulrichshof/streaming/detail/Event/e_100002986/chamer
 -volksfest
DTEND;TZID=Europe/Berlin:20240730T233000
DTSTAMP:20260423T075827Z
DTSTART;TZID=Europe/Berlin:20240730T110000
GEO:49.223049;12.670524
LOCATION:Volksfestplatz Cham\, Further Straße\, Cham
ORGANIZER;CN=Volksfestverein Cham:mailto:info@chamervolksfest.de
PRIORITY:4
SEQUENCE:0
SUMMARY:Chamer Volksfest
UID:e_100002986_iv27
URL:http://pages.destination.one/de/ulrichshof/streaming/detail/Event/e_100
 002986/chamer-volksfest
END:VEVENT
BEGIN:VEVENT
CATEGORIES:Feste/Bälle/Tanz
DESCRIPTION:Der Treffpunkt für Alle!\n\nmehr Informationen unter http://pag
 es.destination.one/de/ulrichshof/streaming/detail/Event/e_100002986/chamer
 -volksfest
DTEND;TZID=Europe/Berlin:20240731T233000
DTSTAMP:20260423T075827Z
DTSTART;TZID=Europe/Berlin:20240731T110000
GEO:49.223049;12.670524
LOCATION:Volksfestplatz Cham\, Further Straße\, Cham
ORGANIZER;CN=Volksfestverein Cham:mailto:info@chamervolksfest.de
PRIORITY:4
SEQUENCE:0
SUMMARY:Chamer Volksfest
UID:e_100002986_iv28
URL:http://pages.destination.one/de/ulrichshof/streaming/detail/Event/e_100
 002986/chamer-volksfest
END:VEVENT
BEGIN:VEVENT
CATEGORIES:Feste/Bälle/Tanz
DESCRIPTION:Der Treffpunkt für Alle!\n\nmehr Informationen unter http://pag
 es.destination.one/de/ulrichshof/streaming/detail/Event/e_100002986/chamer
 -volksfest
DTEND;TZID=Europe/Berlin:20240801T233000
DTSTAMP:20260423T075827Z
DTSTART;TZID=Europe/Berlin:20240801T110000
GEO:49.223049;12.670524
LOCATION:Volksfestplatz Cham\, Further Straße\, Cham
ORGANIZER;CN=Volksfestverein Cham:mailto:info@chamervolksfest.de
PRIORITY:4
SEQUENCE:0
SUMMARY:Chamer Volksfest
UID:e_100002986_iv29
URL:http://pages.destination.one/de/ulrichshof/streaming/detail/Event/e_100
 002986/chamer-volksfest
END:VEVENT
BEGIN:VEVENT
CATEGORIES:Feste/Bälle/Tanz
DESCRIPTION:Der Treffpunkt für Alle!\n\nmehr Informationen unter http://pag
 es.destination.one/de/ulrichshof/streaming/detail/Event/e_100002986/chamer
 -volksfest
DTEND;TZID=Europe/Berlin:20240802T233000
DTSTAMP:20260423T075827Z
DTSTART;TZID=Europe/Berlin:20240802T110000
GEO:49.223049;12.670524
LOCATION:Volksfestplatz Cham\, Further Straße\, Cham
ORGANIZER;CN=Volksfestverein Cham:mailto:info@chamervolksfest.de
PRIORITY:4
SEQUENCE:0
SUMMARY:Chamer Volksfest
UID:e_100002986_iv30
URL:http://pages.destination.one/de/ulrichshof/streaming/detail/Event/e_100
 002986/chamer-volksfest
END:VEVENT
BEGIN:VEVENT
CATEGORIES:Feste/Bälle/Tanz
DESCRIPTION:Der Treffpunkt für Alle!\n\nmehr Informationen unter http://pag
 es.destination.one/de/ulrichshof/streaming/detail/Event/e_100002986/chamer
 -volksfest
DTEND;TZID=Europe/Berlin:20240803T233000
DTSTAMP:20260423T075827Z
DTSTART;TZID=Europe/Berlin:20240803T140000
GEO:49.223049;12.670524
LOCATION:Volksfestplatz Cham\, Further Straße\, Cham
ORGANIZER;CN=Volksfestverein Cham:mailto:info@chamervolksfest.de
PRIORITY:4
SEQUENCE:0
SUMMARY:Chamer Volksfest
UID:e_100002986_iv31
URL:http://pages.destination.one/de/ulrichshof/streaming/detail/Event/e_100
 002986/chamer-volksfest
END:VEVENT
BEGIN:VEVENT
CATEGORIES:Feste/Bälle/Tanz
DESCRIPTION:Der Treffpunkt für Alle!\n\nmehr Informationen unter http://pag
 es.destination.one/de/ulrichshof/streaming/detail/Event/e_100002986/chamer
 -volksfest
DTEND;TZID=Europe/Berlin:20240804T233000
DTSTAMP:20260423T075827Z
DTSTART;TZID=Europe/Berlin:20240804T103000
GEO:49.223049;12.670524
LOCATION:Volksfestplatz Cham\, Further Straße\, Cham
ORGANIZER;CN=Volksfestverein Cham:mailto:info@chamervolksfest.de
PRIORITY:4
SEQUENCE:0
SUMMARY:Chamer Volksfest
UID:e_100002986_iv32
URL:http://pages.destination.one/de/ulrichshof/streaming/detail/Event/e_100
 002986/chamer-volksfest
END:VEVENT
BEGIN:VEVENT
CATEGORIES:Feste/Bälle/Tanz
DESCRIPTION:Der Treffpunkt für Alle!\n\nmehr Informationen unter http://pag
 es.destination.one/de/ulrichshof/streaming/detail/Event/e_100002986/chamer
 -volksfest
DTEND;TZID=Europe/Berlin:20250730T235900
DTSTAMP:20260423T075827Z
DTSTART;TZID=Europe/Berlin:20250730T170000
GEO:49.223049;12.670524
LOCATION:Volksfestplatz Cham\, Further Straße\, Cham
ORGANIZER;CN=Volksfestverein Cham:mailto:info@chamervolksfest.de
PRIORITY:4
RRULE:FREQ=DAILY;UNTIL=20250804T215900
SEQUENCE:0
SUMMARY:Chamer Volksfest
UID:e_100002986_iv33
URL:http://pages.destination.one/de/ulrichshof/streaming/detail/Event/e_100
 002986/chamer-volksfest
END:VEVENT
BEGIN:VEVENT
CATEGORIES:Feste/Bälle/Tanz
DESCRIPTION:Der Treffpunkt für Alle!\n\nmehr Informationen unter http://pag
 es.destination.one/de/ulrichshof/streaming/detail/Event/e_100002986/chamer
 -volksfest
DTEND;TZID=Europe/Berlin:20260508T233000
DTSTAMP:20260423T075827Z
DTSTART;TZID=Europe/Berlin:20260508T170000
GEO:49.223049;12.670524
LOCATION:Volksfestplatz Cham\, Further Straße\, Cham
ORGANIZER;CN=Volksfestverein Cham:mailto:info@chamervolksfest.de
PRIORITY:4
SEQUENCE:0
SUMMARY:Chamer Volksfest
UID:e_100002986_iv34
URL:http://pages.destination.one/de/ulrichshof/streaming/detail/Event/e_100
 002986/chamer-volksfest
END:VEVENT
BEGIN:VEVENT
CATEGORIES:Feste/Bälle/Tanz
DESCRIPTION:Der Treffpunkt für Alle!\n\nmehr Informationen unter http://pag
 es.destination.one/de/ulrichshof/streaming/detail/Event/e_100002986/chamer
 -volksfest
DTEND;TZID=Europe/Berlin:20260509T233000
DTSTAMP:20260423T075827Z
DTSTART;TZID=Europe/Berlin:20260509T110000
GEO:49.223049;12.670524
LOCATION:Volksfestplatz Cham\, Further Straße\, Cham
ORGANIZER;CN=Volksfestverein Cham:mailto:info@chamervolksfest.de
PRIORITY:4
SEQUENCE:0
SUMMARY:Chamer Volksfest
UID:e_100002986_iv35
URL:http://pages.destination.one/de/ulrichshof/streaming/detail/Event/e_100
 002986/chamer-volksfest
END:VEVENT
BEGIN:VEVENT
CATEGORIES:Feste/Bälle/Tanz
DESCRIPTION:Der Treffpunkt für Alle!\n\nmehr Informationen unter http://pag
 es.destination.one/de/ulrichshof/streaming/detail/Event/e_100002986/chamer
 -volksfest
DTEND;TZID=Europe/Berlin:20260510T221500
DTSTAMP:20260423T075827Z
DTSTART;TZID=Europe/Berlin:20260510T100000
GEO:49.223049;12.670524
LOCATION:Volksfestplatz Cham\, Further Straße\, Cham
ORGANIZER;CN=Volksfestverein Cham:mailto:info@chamervolksfest.de
PRIORITY:4
SEQUENCE:0
SUMMARY:Chamer Volksfest
UID:e_100002986_iv36
URL:http://pages.destination.one/de/ulrichshof/streaming/detail/Event/e_100
 002986/chamer-volksfest
END:VEVENT
BEGIN:VEVENT
CATEGORIES:Feste/Bälle/Tanz
DESCRIPTION:Der Treffpunkt für Alle!\n\nmehr Informationen unter http://pag
 es.destination.one/de/ulrichshof/streaming/detail/Event/e_100002986/chamer
 -volksfest
DTEND;TZID=Europe/Berlin:20260511T230000
DTSTAMP:20260423T075827Z
DTSTART;TZID=Europe/Berlin:20260511T110000
GEO:49.223049;12.670524
LOCATION:Volksfestplatz Cham\, Further Straße\, Cham
ORGANIZER;CN=Volksfestverein Cham:mailto:info@chamervolksfest.de
PRIORITY:4
SEQUENCE:0
SUMMARY:Chamer Volksfest
UID:e_100002986_iv37
URL:http://pages.destination.one/de/ulrichshof/streaming/detail/Event/e_100
 002986/chamer-volksfest
END:VEVENT
BEGIN:VEVENT
CATEGORIES:Feste/Bälle/Tanz
DESCRIPTION:Der Treffpunkt für Alle!\n\nmehr Informationen unter http://pag
 es.destination.one/de/ulrichshof/streaming/detail/Event/e_100002986/chamer
 -volksfest
DTEND;TZID=Europe/Berlin:20260512T233000
DTSTAMP:20260423T075827Z
DTSTART;TZID=Europe/Berlin:20260512T110000
GEO:49.223049;12.670524
LOCATION:Volksfestplatz Cham\, Further Straße\, Cham
ORGANIZER;CN=Volksfestverein Cham:mailto:info@chamervolksfest.de
PRIORITY:4
SEQUENCE:0
SUMMARY:Chamer Volksfest
UID:e_100002986_iv38
URL:http://pages.destination.one/de/ulrichshof/streaming/detail/Event/e_100
 002986/chamer-volksfest
END:VEVENT
BEGIN:VEVENT
CATEGORIES:Feste/Bälle/Tanz
DESCRIPTION:Der Treffpunkt für Alle!\n\nmehr Informationen unter http://pag
 es.destination.one/de/ulrichshof/streaming/detail/Event/e_100002986/chamer
 -volksfest
DTEND;TZID=Europe/Berlin:20260513T233000
DTSTAMP:20260423T075827Z
DTSTART;TZID=Europe/Berlin:20260513T110000
GEO:49.223049;12.670524
LOCATION:Volksfestplatz Cham\, Further Straße\, Cham
ORGANIZER;CN=Volksfestverein Cham:mailto:info@chamervolksfest.de
PRIORITY:4
SEQUENCE:0
SUMMARY:Chamer Volksfest
UID:e_100002986_iv39
URL:http://pages.destination.one/de/ulrichshof/streaming/detail/Event/e_100
 002986/chamer-volksfest
END:VEVENT
BEGIN:VEVENT
CATEGORIES:Feste/Bälle/Tanz
DESCRIPTION:Der Treffpunkt für Alle!\n\nmehr Informationen unter http://pag
 es.destination.one/de/ulrichshof/streaming/detail/Event/e_100002986/chamer
 -volksfest
DTEND;TZID=Europe/Berlin:20260514T221500
DTSTAMP:20260423T075827Z
DTSTART;TZID=Europe/Berlin:20260514T110000
GEO:49.223049;12.670524
LOCATION:Volksfestplatz Cham\, Further Straße\, Cham
ORGANIZER;CN=Volksfestverein Cham:mailto:info@chamervolksfest.de
PRIORITY:4
SEQUENCE:0
SUMMARY:Chamer Volksfest
UID:e_100002986_iv40
URL:http://pages.destination.one/de/ulrichshof/streaming/detail/Event/e_100
 002986/chamer-volksfest
END:VEVENT
BEGIN:VEVENT
CATEGORIES:Feste/Bälle/Tanz
DESCRIPTION:Der Treffpunkt für Alle!\n\nmehr Informationen unter http://pag
 es.destination.one/de/ulrichshof/streaming/detail/Event/e_100002986/chamer
 -volksfest
DTEND;TZID=Europe/Berlin:20260515T233000
DTSTAMP:20260423T075827Z
DTSTART;TZID=Europe/Berlin:20260515T110000
GEO:49.223049;12.670524
LOCATION:Volksfestplatz Cham\, Further Straße\, Cham
ORGANIZER;CN=Volksfestverein Cham:mailto:info@chamervolksfest.de
PRIORITY:4
SEQUENCE:0
SUMMARY:Chamer Volksfest
UID:e_100002986_iv41
URL:http://pages.destination.one/de/ulrichshof/streaming/detail/Event/e_100
 002986/chamer-volksfest
END:VEVENT
BEGIN:VEVENT
CATEGORIES:Feste/Bälle/Tanz
DESCRIPTION:Der Treffpunkt für Alle!\n\nmehr Informationen unter http://pag
 es.destination.one/de/ulrichshof/streaming/detail/Event/e_100002986/chamer
 -volksfest
DTEND;TZID=Europe/Berlin:20260517T000000
DTSTAMP:20260423T075827Z
DTSTART;TZID=Europe/Berlin:20260516T110000
GEO:49.223049;12.670524
LOCATION:Volksfestplatz Cham\, Further Straße\, Cham
ORGANIZER;CN=Volksfestverein Cham:mailto:info@chamervolksfest.de
PRIORITY:4
SEQUENCE:0
SUMMARY:Chamer Volksfest
UID:e_100002986_iv42
URL:http://pages.destination.one/de/ulrichshof/streaming/detail/Event/e_100
 002986/chamer-volksfest
END:VEVENT
BEGIN:VEVENT
CATEGORIES:Feste/Bälle/Tanz
DESCRIPTION:Der Treffpunkt für Alle!\n\nmehr Informationen unter http://pag
 es.destination.one/de/ulrichshof/streaming/detail/Event/e_100002986/chamer
 -volksfest
DTEND;TZID=Europe/Berlin:20260517T221500
DTSTAMP:20260423T075827Z
DTSTART;TZID=Europe/Berlin:20260517T100000
GEO:49.223049;12.670524
LOCATION:Volksfestplatz Cham\, Further Straße\, Cham
ORGANIZER;CN=Volksfestverein Cham:mailto:info@chamervolksfest.de
PRIORITY:4
SEQUENCE:0
SUMMARY:Chamer Volksfest
UID:e_100002986_iv43
URL:http://pages.destination.one/de/ulrichshof/streaming/detail/Event/e_100
 002986/chamer-volksfest
END:VEVENT
BEGIN:VTIMEZONE
TZID:Europe/Berlin
X-LIC-LOCATION:Europe/Berlin
BEGIN:DAYLIGHT
DTSTART:19700329T020000
RRULE:FREQ=YEARLY;BYDAY=-1SU;BYMONTH=3
TZNAME:CEST
TZOFFSETFROM:+0100
TZOFFSETTO:+0200
END:DAYLIGHT
BEGIN:STANDARD
DTSTART:19701025T030000
RRULE:FREQ=YEARLY;BYDAY=-1SU;BYMONTH=10
TZNAME:CET
TZOFFSETFROM:+0200
TZOFFSETTO:+0100
END:STANDARD
END:VTIMEZONE
END:VCALENDAR
