BEGIN:VCALENDAR
VERSION:2.0
PRODID:-//destination.one//NONSGML destination.meta API//DE
X-WR-CALDESC:A calendar powered by destination.meta
X-WR-CALNAME:ulrichshof Kalender via destination.meta
BEGIN:VEVENT
CATEGORIES:Brauchtum/Kultur
CATEGORIES:Geselligkeit/Spiele/Treffen
DESCRIPTION:Eine alte Tradition ist das Maibaum aufstellen in Pulling.\n\nm
 ehr Informationen unter http://pages.destination.one/de/ulrichshof/streami
 ng/detail/Event/e_100000294/maibaumaufstellen-in-pulling
DTEND;TZID=Europe/Berlin:20170430T210000
DTSTAMP:20260423T075825Z
DTSTART;TZID=Europe/Berlin:20170430T180000
GEO:49.159657;12.830744
LOCATION:Beim Fischerstüberl in Pulling\, Pulling 12 a\, Blaibach
ORGANIZER;CN=Gasthof - Pension Fischerstüberl:mailto:info@fischerstueberl.d
 e
SEQUENCE:0
SUMMARY:Maibaumaufstellen in Pulling
UID:e_100000294_iv0
URL:http://pages.destination.one/de/ulrichshof/streaming/detail/Event/e_100
 000294/maibaumaufstellen-in-pulling
END:VEVENT
BEGIN:VEVENT
CATEGORIES:Brauchtum/Kultur
CATEGORIES:Geselligkeit/Spiele/Treffen
DESCRIPTION:Eine alte Tradition ist das Maibaum aufstellen in Pulling.\n\nm
 ehr Informationen unter http://pages.destination.one/de/ulrichshof/streami
 ng/detail/Event/e_100000294/maibaumaufstellen-in-pulling
DTEND;TZID=Europe/Berlin:20180430T210000
DTSTAMP:20260423T075825Z
DTSTART;TZID=Europe/Berlin:20180430T180000
GEO:49.159657;12.830744
LOCATION:Beim Fischerstüberl in Pulling\, Pulling 12 a\, Blaibach
ORGANIZER;CN=Gasthof - Pension Fischerstüberl:mailto:info@fischerstueberl.d
 e
SEQUENCE:0
SUMMARY:Maibaumaufstellen in Pulling
UID:e_100000294_iv1
URL:http://pages.destination.one/de/ulrichshof/streaming/detail/Event/e_100
 000294/maibaumaufstellen-in-pulling
END:VEVENT
BEGIN:VEVENT
CATEGORIES:Brauchtum/Kultur
CATEGORIES:Geselligkeit/Spiele/Treffen
DESCRIPTION:Eine alte Tradition ist das Maibaum aufstellen in Pulling.\n\nm
 ehr Informationen unter http://pages.destination.one/de/ulrichshof/streami
 ng/detail/Event/e_100000294/maibaumaufstellen-in-pulling
DTEND;TZID=Europe/Berlin:20190501T235900
DTSTAMP:20260423T075825Z
DTSTART;TZID=Europe/Berlin:20190501T150000
GEO:49.159657;12.830744
LOCATION:Beim Fischerstüberl in Pulling\, Pulling 12 a\, Blaibach
ORGANIZER;CN=Gasthof - Pension Fischerstüberl:mailto:info@fischerstueberl.d
 e
SEQUENCE:0
SUMMARY:Maibaumaufstellen in Pulling
UID:e_100000294_iv2
URL:http://pages.destination.one/de/ulrichshof/streaming/detail/Event/e_100
 000294/maibaumaufstellen-in-pulling
END:VEVENT
BEGIN:VEVENT
CATEGORIES:Brauchtum/Kultur
CATEGORIES:Geselligkeit/Spiele/Treffen
DESCRIPTION:Eine alte Tradition ist das Maibaum aufstellen in Pulling.\n\nm
 ehr Informationen unter http://pages.destination.one/de/ulrichshof/streami
 ng/detail/Event/e_100000294/maibaumaufstellen-in-pulling
DTEND;TZID=Europe/Berlin:20220501T235900
DTSTAMP:20260423T075825Z
DTSTART;TZID=Europe/Berlin:20220501T150000
GEO:49.159657;12.830744
LOCATION:Beim Fischerstüberl in Pulling\, Pulling 12 a\, Blaibach
ORGANIZER;CN=Gasthof - Pension Fischerstüberl:mailto:info@fischerstueberl.d
 e
SEQUENCE:0
SUMMARY:Maibaumaufstellen in Pulling
UID:e_100000294_iv3
URL:http://pages.destination.one/de/ulrichshof/streaming/detail/Event/e_100
 000294/maibaumaufstellen-in-pulling
END:VEVENT
BEGIN:VEVENT
CATEGORIES:Brauchtum/Kultur
CATEGORIES:Geselligkeit/Spiele/Treffen
DESCRIPTION:Eine alte Tradition ist das Maibaum aufstellen in Pulling.\n\nm
 ehr Informationen unter http://pages.destination.one/de/ulrichshof/streami
 ng/detail/Event/e_100000294/maibaumaufstellen-in-pulling
DTEND;TZID=Europe/Berlin:20230501T235900
DTSTAMP:20260423T075825Z
DTSTART;TZID=Europe/Berlin:20230501T140000
GEO:49.159657;12.830744
LOCATION:Beim Fischerstüberl in Pulling\, Pulling 12 a\, Blaibach
ORGANIZER;CN=Gasthof - Pension Fischerstüberl:mailto:info@fischerstueberl.d
 e
SEQUENCE:0
SUMMARY:Maibaumaufstellen in Pulling
UID:e_100000294_iv4
URL:http://pages.destination.one/de/ulrichshof/streaming/detail/Event/e_100
 000294/maibaumaufstellen-in-pulling
END:VEVENT
BEGIN:VEVENT
CATEGORIES:Brauchtum/Kultur
CATEGORIES:Geselligkeit/Spiele/Treffen
DESCRIPTION:Eine alte Tradition ist das Maibaum aufstellen in Pulling.\n\nm
 ehr Informationen unter http://pages.destination.one/de/ulrichshof/streami
 ng/detail/Event/e_100000294/maibaumaufstellen-in-pulling
DTEND;TZID=Europe/Berlin:20260501T235900
DTSTAMP:20260423T075825Z
DTSTART;TZID=Europe/Berlin:20260501T140000
GEO:49.159657;12.830744
LOCATION:Beim Fischerstüberl in Pulling\, Pulling 12 a\, Blaibach
ORGANIZER;CN=Gasthof - Pension Fischerstüberl:mailto:info@fischerstueberl.d
 e
SEQUENCE:0
SUMMARY:Maibaumaufstellen in Pulling
UID:e_100000294_iv5
URL:http://pages.destination.one/de/ulrichshof/streaming/detail/Event/e_100
 000294/maibaumaufstellen-in-pulling
END:VEVENT
BEGIN:VTIMEZONE
TZID:Europe/Berlin
X-LIC-LOCATION:Europe/Berlin
BEGIN:DAYLIGHT
DTSTART:19700329T020000
RRULE:FREQ=YEARLY;BYDAY=-1SU;BYMONTH=3
TZNAME:CEST
TZOFFSETFROM:+0100
TZOFFSETTO:+0200
END:DAYLIGHT
BEGIN:STANDARD
DTSTART:19701025T030000
RRULE:FREQ=YEARLY;BYDAY=-1SU;BYMONTH=10
TZNAME:CET
TZOFFSETFROM:+0200
TZOFFSETTO:+0100
END:STANDARD
END:VTIMEZONE
END:VCALENDAR
